BEGIN:VCALENDAR
VERSION:2.0
PRODID:-//Visit Ballard - ECPv6.15.20//NONSGML v1.0//EN
CALSCALE:GREGORIAN
METHOD:PUBLISH
X-WR-CALNAME:Visit Ballard
X-ORIGINAL-URL:https://www.visitballard.com
X-WR-CALDESC:Events for Visit Ballard
REFRESH-INTERVAL;VALUE=DURATION:PT1H
X-Robots-Tag:noindex
X-PUBLISHED-TTL:PT1H
BEGIN:VTIMEZONE
TZID:America/Los_Angeles
BEGIN:DAYLIGHT
TZOFFSETFROM:-0800
TZOFFSETTO:-0700
TZNAME:PDT
DTSTART:20240310T100000
END:DAYLIGHT
BEGIN:STANDARD
TZOFFSETFROM:-0700
TZOFFSETTO:-0800
TZNAME:PST
DTSTART:20241103T090000
END:STANDARD
BEGIN:DAYLIGHT
TZOFFSETFROM:-0800
TZOFFSETTO:-0700
TZNAME:PDT
DTSTART:20250309T100000
END:DAYLIGHT
BEGIN:STANDARD
TZOFFSETFROM:-0700
TZOFFSETTO:-0800
TZNAME:PST
DTSTART:20251102T090000
END:STANDARD
BEGIN:DAYLIGHT
TZOFFSETFROM:-0800
TZOFFSETTO:-0700
TZNAME:PDT
DTSTART:20260308T100000
END:DAYLIGHT
BEGIN:STANDARD
TZOFFSETFROM:-0700
TZOFFSETTO:-0800
TZNAME:PST
DTSTART:20261101T090000
END:STANDARD
BEGIN:DAYLIGHT
TZOFFSETFROM:-0800
TZOFFSETTO:-0700
TZNAME:PDT
DTSTART:20270314T100000
END:DAYLIGHT
BEGIN:STANDARD
TZOFFSETFROM:-0700
TZOFFSETTO:-0800
TZNAME:PST
DTSTART:20271107T090000
END:STANDARD
END:VTIMEZONE
BEGIN:VEVENT
DTSTART;TZID=America/Los_Angeles:20260125T160000
DTEND;TZID=America/Los_Angeles:20260125T180000
DTSTAMP:20260421T103830
CREATED:20260112T215635Z
LAST-MODIFIED:20260112T215635Z
UID:10005123-1769356800-1769364000@www.visitballard.com
SUMMARY:5th Annual Viking Beard Competition
DESCRIPTION:Have an award-winning beard? Prove it at our 5th Annual Viking Beard Competition! Viking gear encouraged. All ages welcome. Free entry. Come cheer on the participants as they strut their stuff on the beer hall runway. Prizes and laughs guaranteed.\nThis is one of our most popular events\, so we highly recommend making a Group Reservation if you’re coming to watch.\nIf you’d like to compete\, we kindly ask you to fill out the registration form linked to this event. The contest will begin at 4pm on Sunday Jan 25th. Our judges will be four local “Viking” personalities. Prizes will be awarded to the top three finalists with the grand prize being a $150 Skål gift card and the honor of a permanent wood round on our Valhalla Wall.
URL:https://www.visitballard.com/event/5th-annual-viking-beard-competition/
LOCATION:Skål Beer Hall\, 5429 Ballard Ave NW\, Seattle\, WA\, 98107\, United States
CATEGORIES:Community
ATTACH;FMTTYPE=image/png:https://www.visitballard.com/wp-content/uploads/2026/01/Beard-Competition-2026-1920-x-1080-px.png
ORGANIZER;CN="Sk%C3%A5l Beer Hall":MAILTO:adam@skalballard.com
END:VEVENT
BEGIN:VEVENT
DTSTART;TZID=America/Los_Angeles:20251214T130000
DTEND;TZID=America/Los_Angeles:20251214T150000
DTSTAMP:20260421T103830
CREATED:20251120T221255Z
LAST-MODIFIED:20251120T221255Z
UID:10000716-1765717200-1765724400@www.visitballard.com
SUMMARY:Queens of the Hall Holiday Drag Brunch
DESCRIPTION:Drag at a Viking beer hall? Hell yeah! The Queens of the Hall return to Skål for their annual Holiday Drag Brunch in Ballard. Queen Andrew reigns supreme over the beer hall runway with her cast of friends. This is our favorite\, coziest time of the year with our holiday decorations and a roaring fireplace!
URL:https://www.visitballard.com/event/queens-of-the-hall-holiday-drag-brunch-2/
LOCATION:Skål Beer Hall\, 5429 Ballard Ave NW\, Seattle\, WA\, 98107\, United States
CATEGORIES:Community
ATTACH;FMTTYPE=image/png:https://www.visitballard.com/wp-content/uploads/2025/11/HOLIDAY-DRAG-2025-Tock-1.png
ORGANIZER;CN="Sk%C3%A5l Beer Hall":MAILTO:adam@skalballard.com
END:VEVENT
BEGIN:VEVENT
DTSTART;TZID=America/Los_Angeles:20251214T130000
DTEND;TZID=America/Los_Angeles:20251214T150000
DTSTAMP:20260421T103830
CREATED:20251120T221238Z
LAST-MODIFIED:20251120T221238Z
UID:10000717-1765717200-1765724400@www.visitballard.com
SUMMARY:Queens of the Hall Holiday Drag Brunch
DESCRIPTION:Drag at a Viking beer hall? Hell yeah! The Queens of the Hall return to Skål for their annual Holiday Drag Brunch in Ballard. Queen Andrew reigns supreme over the beer hall runway with her cast of friends. This is our favorite\, coziest time of the year with our holiday decorations and a roaring fireplace!
URL:https://www.visitballard.com/event/queens-of-the-hall-holiday-drag-brunch/
LOCATION:Skål Beer Hall\, 5429 Ballard Ave NW\, Seattle\, WA\, 98107\, United States
ATTACH;FMTTYPE=image/png:https://www.visitballard.com/wp-content/uploads/2025/11/HOLIDAY-DRAG-2025-Tock-1-1.png
ORGANIZER;CN="Sk%C3%A5l Beer Hall":MAILTO:adam@skalballard.com
END:VEVENT
BEGIN:VEVENT
DTSTART;TZID=America/Los_Angeles:20251214T110000
DTEND;TZID=America/Los_Angeles:20251214T160000
DTSTAMP:20260421T103830
CREATED:20251120T221308Z
LAST-MODIFIED:20251125T013038Z
UID:10000718-1765710000-1765728000@www.visitballard.com
SUMMARY:5th Annual Jul Market
DESCRIPTION:Join us for our annual Jul Market in our covered and heated outdoor space! You’ll find a collection of Nordic vendors and local craftsmen. Shop for holiday gifts as you sip on gløgg\, Scandinavian mulled wine. Plus\, we’ll have live holiday music and a visit from the Jul Father! All ages welcome. No tickets required. This is a free event.
URL:https://www.visitballard.com/event/5th-annual-jul-market/
LOCATION:Skål Beer Hall\, 5429 Ballard Ave NW\, Seattle\, WA\, 98107\, United States
CATEGORIES:Community
ATTACH;FMTTYPE=image/png:https://www.visitballard.com/wp-content/uploads/2025/11/Jul-Market_2025-1920-x-1080-px.png
ORGANIZER;CN="Sk%C3%A5l Beer Hall":MAILTO:adam@skalballard.com
END:VEVENT
BEGIN:VEVENT
DTSTART;TZID=America/Los_Angeles:20251119T190000
DTEND;TZID=America/Los_Angeles:20251119T210000
DTSTAMP:20260421T103830
CREATED:20251108T011215Z
LAST-MODIFIED:20251108T011215Z
UID:10000690-1763578800-1763586000@www.visitballard.com
SUMMARY:Live at Skål with Mountain Holler
DESCRIPTION:Join us for live music in the back bar with Ballard’s own Mountain Holler. Listen fireside to his ethereal alt-folk with a beer\, mead\, or cocktail in hand! All ages welcome | no cover
URL:https://www.visitballard.com/event/live-at-skal-with-mountain-holler/
LOCATION:Skål Beer Hall\, 5429 Ballard Ave NW\, Seattle\, WA\, 98107\, United States
CATEGORIES:Community
ATTACH;FMTTYPE=image/jpeg:https://www.visitballard.com/wp-content/uploads/2025/11/Skal-Beer-Hall-6yr.jpg
END:VEVENT
BEGIN:VEVENT
DTSTART;TZID=America/Los_Angeles:20251113T190000
DTEND;TZID=America/Los_Angeles:20251113T210000
DTSTAMP:20260421T103830
CREATED:20251107T183335Z
LAST-MODIFIED:20251107T183340Z
UID:10000689-1763060400-1763067600@www.visitballard.com
SUMMARY:Jarlsgiving Community Feast
DESCRIPTION:Come feast with us and be treated like a Jarl at our annual Celebration of the season! Your choice of a steak or salmon feast will be served ​fireside at communal tables with special mead\, beer\, & ​aquavit pairings.
URL:https://www.visitballard.com/event/jarlsgiving-community-feast/
LOCATION:Skål Beer Hall\, 5429 Ballard Ave NW\, Seattle\, WA\, 98107\, United States
CATEGORIES:Community
ATTACH;FMTTYPE=image/png:https://www.visitballard.com/wp-content/uploads/2025/11/Jarls-Giving-2025-8.5-x-11-in.png
ORGANIZER;CN="Sk%C3%A5l Beer Hall":MAILTO:adam@skalballard.com
END:VEVENT
END:VCALENDAR