BEGIN:VCALENDAR
VERSION:2.0
PRODID:-//Visit Ballard - ECPv6.15.20//NONSGML v1.0//EN
CALSCALE:GREGORIAN
METHOD:PUBLISH
X-WR-CALNAME:Visit Ballard
X-ORIGINAL-URL:https://www.visitballard.com
X-WR-CALDESC:Events for Visit Ballard
REFRESH-INTERVAL;VALUE=DURATION:PT1H
X-Robots-Tag:noindex
X-PUBLISHED-TTL:PT1H
BEGIN:VTIMEZONE
TZID:America/Los_Angeles
BEGIN:DAYLIGHT
TZOFFSETFROM:-0800
TZOFFSETTO:-0700
TZNAME:PDT
DTSTART:20250309T100000
END:DAYLIGHT
BEGIN:STANDARD
TZOFFSETFROM:-0700
TZOFFSETTO:-0800
TZNAME:PST
DTSTART:20251102T090000
END:STANDARD
BEGIN:DAYLIGHT
TZOFFSETFROM:-0800
TZOFFSETTO:-0700
TZNAME:PDT
DTSTART:20260308T100000
END:DAYLIGHT
BEGIN:STANDARD
TZOFFSETFROM:-0700
TZOFFSETTO:-0800
TZNAME:PST
DTSTART:20261101T090000
END:STANDARD
BEGIN:DAYLIGHT
TZOFFSETFROM:-0800
TZOFFSETTO:-0700
TZNAME:PDT
DTSTART:20270314T100000
END:DAYLIGHT
BEGIN:STANDARD
TZOFFSETFROM:-0700
TZOFFSETTO:-0800
TZNAME:PST
DTSTART:20271107T090000
END:STANDARD
END:VTIMEZONE
BEGIN:VEVENT
DTSTART;TZID=America/Los_Angeles:20260405T120000
DTEND;TZID=America/Los_Angeles:20260405T130000
DTSTAMP:20260423T091104
CREATED:20260402T154651Z
LAST-MODIFIED:20260402T164504Z
UID:10006253-1775390400-1775394000@www.visitballard.com
SUMMARY:Salmon Bay Easter Egg Hunt
DESCRIPTION:The Salmon Bay Eagles are proud to host our 76th Annual Easter Egg Hunt at Salmon Bay Park. We welcome all children and families to join us in this wonderful community event that includes an Easter Egg Hunt that is fun for the whole family. The festivities begin at 12pm on Sunday\, April 5. The hunt starts promptly at 12pm so please arrive a little early to get ready!
URL:https://www.visitballard.com/event/salmon-bay-easter-egg-hunt/
LOCATION:Salmon Bay Park\, 2001 NW Canoe Place\, Seattle\, 98117
CATEGORIES:Community,Featured
ATTACH;FMTTYPE=image/png:https://www.visitballard.com/wp-content/uploads/2026/04/Blue-and-Green-Illustrative-Easter-Egg-Hunt-Poster.png
ORGANIZER;CN="Salmon Bay Eagles":MAILTO:secretary2141@outlook.com
END:VEVENT
END:VCALENDAR