BEGIN:VCALENDAR
VERSION:2.0
PRODID:-//Visit Ballard - ECPv6.15.20//NONSGML v1.0//EN
CALSCALE:GREGORIAN
METHOD:PUBLISH
X-WR-CALNAME:Visit Ballard
X-ORIGINAL-URL:https://www.visitballard.com
X-WR-CALDESC:Events for Visit Ballard
REFRESH-INTERVAL;VALUE=DURATION:PT1H
X-Robots-Tag:noindex
X-PUBLISHED-TTL:PT1H
BEGIN:VTIMEZONE
TZID:America/Los_Angeles
BEGIN:DAYLIGHT
TZOFFSETFROM:-0800
TZOFFSETTO:-0700
TZNAME:PDT
DTSTART:20250309T100000
END:DAYLIGHT
BEGIN:STANDARD
TZOFFSETFROM:-0700
TZOFFSETTO:-0800
TZNAME:PST
DTSTART:20251102T090000
END:STANDARD
BEGIN:DAYLIGHT
TZOFFSETFROM:-0800
TZOFFSETTO:-0700
TZNAME:PDT
DTSTART:20260308T100000
END:DAYLIGHT
BEGIN:STANDARD
TZOFFSETFROM:-0700
TZOFFSETTO:-0800
TZNAME:PST
DTSTART:20261101T090000
END:STANDARD
BEGIN:DAYLIGHT
TZOFFSETFROM:-0800
TZOFFSETTO:-0700
TZNAME:PDT
DTSTART:20270314T100000
END:DAYLIGHT
BEGIN:STANDARD
TZOFFSETFROM:-0700
TZOFFSETTO:-0800
TZNAME:PST
DTSTART:20271107T090000
END:STANDARD
END:VTIMEZONE
BEGIN:VEVENT
DTSTART;TZID=America/Los_Angeles:20260422T190000
DTEND;TZID=America/Los_Angeles:20260422T220000
DTSTAMP:20260425T180913
CREATED:20260129T182209Z
LAST-MODIFIED:20260129T182209Z
UID:10005161-1776884400-1776895200@www.visitballard.com
SUMMARY:Trivia with Head in the Clouds
DESCRIPTION:Think you’ve got the answers? We’ll see! Grab a pint\, grab your crew\, and battle it out for bragging rights (and prizes). \nJoin us every Wednesday for Trivia Night at Reuben’s Brews taprooms! It’s your mid-week brain refresh with a friendly competitive streak. \nOur trivia hosts keep the pace quick and the categories wide—music\, movies\, local lore\, and the occasional curveball. It’s community tables\, cheers for good answers\, and no gatekeeping. Build a team or join one on arrival. Either way\, you’ll enjoy fresh beer and leave with new facts and a few new friends.
URL:https://www.visitballard.com/event/trivia-with-head-in-the-clouds/2026-04-22/
LOCATION:Reuben’s Brews\, 5010 14th Ave NW\, Seattle\, WA\, 98107\, United States
CATEGORIES:Community
ATTACH;FMTTYPE=image/png:https://www.visitballard.com/wp-content/uploads/2026/01/Untitled-design-4.png
END:VEVENT
BEGIN:VEVENT
DTSTART;TZID=America/Los_Angeles:20260415T190000
DTEND;TZID=America/Los_Angeles:20260415T220000
DTSTAMP:20260425T180913
CREATED:20260129T182209Z
LAST-MODIFIED:20260129T182209Z
UID:10005160-1776279600-1776290400@www.visitballard.com
SUMMARY:Trivia with Head in the Clouds
DESCRIPTION:Think you’ve got the answers? We’ll see! Grab a pint\, grab your crew\, and battle it out for bragging rights (and prizes). \nJoin us every Wednesday for Trivia Night at Reuben’s Brews taprooms! It’s your mid-week brain refresh with a friendly competitive streak. \nOur trivia hosts keep the pace quick and the categories wide—music\, movies\, local lore\, and the occasional curveball. It’s community tables\, cheers for good answers\, and no gatekeeping. Build a team or join one on arrival. Either way\, you’ll enjoy fresh beer and leave with new facts and a few new friends.
URL:https://www.visitballard.com/event/trivia-with-head-in-the-clouds/2026-04-15/
LOCATION:Reuben’s Brews\, 5010 14th Ave NW\, Seattle\, WA\, 98107\, United States
CATEGORIES:Community
ATTACH;FMTTYPE=image/png:https://www.visitballard.com/wp-content/uploads/2026/01/Untitled-design-4.png
END:VEVENT
BEGIN:VEVENT
DTSTART;TZID=America/Los_Angeles:20260408T190000
DTEND;TZID=America/Los_Angeles:20260408T220000
DTSTAMP:20260425T180913
CREATED:20260129T182209Z
LAST-MODIFIED:20260129T182209Z
UID:10005159-1775674800-1775685600@www.visitballard.com
SUMMARY:Trivia with Head in the Clouds
DESCRIPTION:Think you’ve got the answers? We’ll see! Grab a pint\, grab your crew\, and battle it out for bragging rights (and prizes). \nJoin us every Wednesday for Trivia Night at Reuben’s Brews taprooms! It’s your mid-week brain refresh with a friendly competitive streak. \nOur trivia hosts keep the pace quick and the categories wide—music\, movies\, local lore\, and the occasional curveball. It’s community tables\, cheers for good answers\, and no gatekeeping. Build a team or join one on arrival. Either way\, you’ll enjoy fresh beer and leave with new facts and a few new friends.
URL:https://www.visitballard.com/event/trivia-with-head-in-the-clouds/2026-04-08/
LOCATION:Reuben’s Brews\, 5010 14th Ave NW\, Seattle\, WA\, 98107\, United States
CATEGORIES:Community
ATTACH;FMTTYPE=image/png:https://www.visitballard.com/wp-content/uploads/2026/01/Untitled-design-4.png
END:VEVENT
BEGIN:VEVENT
DTSTART;TZID=America/Los_Angeles:20260401T190000
DTEND;TZID=America/Los_Angeles:20260401T220000
DTSTAMP:20260425T180913
CREATED:20260129T182209Z
LAST-MODIFIED:20260129T182209Z
UID:10005158-1775070000-1775080800@www.visitballard.com
SUMMARY:Trivia with Head in the Clouds
DESCRIPTION:Think you’ve got the answers? We’ll see! Grab a pint\, grab your crew\, and battle it out for bragging rights (and prizes). \nJoin us every Wednesday for Trivia Night at Reuben’s Brews taprooms! It’s your mid-week brain refresh with a friendly competitive streak. \nOur trivia hosts keep the pace quick and the categories wide—music\, movies\, local lore\, and the occasional curveball. It’s community tables\, cheers for good answers\, and no gatekeeping. Build a team or join one on arrival. Either way\, you’ll enjoy fresh beer and leave with new facts and a few new friends.
URL:https://www.visitballard.com/event/trivia-with-head-in-the-clouds/2026-04-01/
LOCATION:Reuben’s Brews\, 5010 14th Ave NW\, Seattle\, WA\, 98107\, United States
CATEGORIES:Community
ATTACH;FMTTYPE=image/png:https://www.visitballard.com/wp-content/uploads/2026/01/Untitled-design-4.png
END:VEVENT
BEGIN:VEVENT
DTSTART;TZID=America/Los_Angeles:20260325T190000
DTEND;TZID=America/Los_Angeles:20260325T220000
DTSTAMP:20260425T180913
CREATED:20260129T182209Z
LAST-MODIFIED:20260129T182209Z
UID:10005157-1774465200-1774476000@www.visitballard.com
SUMMARY:Trivia with Head in the Clouds
DESCRIPTION:Think you’ve got the answers? We’ll see! Grab a pint\, grab your crew\, and battle it out for bragging rights (and prizes). \nJoin us every Wednesday for Trivia Night at Reuben’s Brews taprooms! It’s your mid-week brain refresh with a friendly competitive streak. \nOur trivia hosts keep the pace quick and the categories wide—music\, movies\, local lore\, and the occasional curveball. It’s community tables\, cheers for good answers\, and no gatekeeping. Build a team or join one on arrival. Either way\, you’ll enjoy fresh beer and leave with new facts and a few new friends.
URL:https://www.visitballard.com/event/trivia-with-head-in-the-clouds/2026-03-25/
LOCATION:Reuben’s Brews\, 5010 14th Ave NW\, Seattle\, WA\, 98107\, United States
CATEGORIES:Community
ATTACH;FMTTYPE=image/png:https://www.visitballard.com/wp-content/uploads/2026/01/Untitled-design-4.png
END:VEVENT
BEGIN:VEVENT
DTSTART;TZID=America/Los_Angeles:20260318T190000
DTEND;TZID=America/Los_Angeles:20260318T220000
DTSTAMP:20260425T180913
CREATED:20260129T182209Z
LAST-MODIFIED:20260129T182209Z
UID:10005156-1773860400-1773871200@www.visitballard.com
SUMMARY:Trivia with Head in the Clouds
DESCRIPTION:Think you’ve got the answers? We’ll see! Grab a pint\, grab your crew\, and battle it out for bragging rights (and prizes). \nJoin us every Wednesday for Trivia Night at Reuben’s Brews taprooms! It’s your mid-week brain refresh with a friendly competitive streak. \nOur trivia hosts keep the pace quick and the categories wide—music\, movies\, local lore\, and the occasional curveball. It’s community tables\, cheers for good answers\, and no gatekeeping. Build a team or join one on arrival. Either way\, you’ll enjoy fresh beer and leave with new facts and a few new friends.
URL:https://www.visitballard.com/event/trivia-with-head-in-the-clouds/2026-03-18/
LOCATION:Reuben’s Brews\, 5010 14th Ave NW\, Seattle\, WA\, 98107\, United States
CATEGORIES:Community
ATTACH;FMTTYPE=image/png:https://www.visitballard.com/wp-content/uploads/2026/01/Untitled-design-4.png
END:VEVENT
BEGIN:VEVENT
DTSTART;TZID=America/Los_Angeles:20260311T190000
DTEND;TZID=America/Los_Angeles:20260311T220000
DTSTAMP:20260425T180913
CREATED:20260129T182209Z
LAST-MODIFIED:20260129T182209Z
UID:10005155-1773255600-1773266400@www.visitballard.com
SUMMARY:Trivia with Head in the Clouds
DESCRIPTION:Think you’ve got the answers? We’ll see! Grab a pint\, grab your crew\, and battle it out for bragging rights (and prizes). \nJoin us every Wednesday for Trivia Night at Reuben’s Brews taprooms! It’s your mid-week brain refresh with a friendly competitive streak. \nOur trivia hosts keep the pace quick and the categories wide—music\, movies\, local lore\, and the occasional curveball. It’s community tables\, cheers for good answers\, and no gatekeeping. Build a team or join one on arrival. Either way\, you’ll enjoy fresh beer and leave with new facts and a few new friends.
URL:https://www.visitballard.com/event/trivia-with-head-in-the-clouds/2026-03-11/
LOCATION:Reuben’s Brews\, 5010 14th Ave NW\, Seattle\, WA\, 98107\, United States
CATEGORIES:Community
ATTACH;FMTTYPE=image/png:https://www.visitballard.com/wp-content/uploads/2026/01/Untitled-design-4.png
END:VEVENT
BEGIN:VEVENT
DTSTART;TZID=America/Los_Angeles:20260304T190000
DTEND;TZID=America/Los_Angeles:20260304T220000
DTSTAMP:20260425T180913
CREATED:20260129T182209Z
LAST-MODIFIED:20260129T182209Z
UID:10005154-1772650800-1772661600@www.visitballard.com
SUMMARY:Trivia with Head in the Clouds
DESCRIPTION:Think you’ve got the answers? We’ll see! Grab a pint\, grab your crew\, and battle it out for bragging rights (and prizes). \nJoin us every Wednesday for Trivia Night at Reuben’s Brews taprooms! It’s your mid-week brain refresh with a friendly competitive streak. \nOur trivia hosts keep the pace quick and the categories wide—music\, movies\, local lore\, and the occasional curveball. It’s community tables\, cheers for good answers\, and no gatekeeping. Build a team or join one on arrival. Either way\, you’ll enjoy fresh beer and leave with new facts and a few new friends.
URL:https://www.visitballard.com/event/trivia-with-head-in-the-clouds/2026-03-04/
LOCATION:Reuben’s Brews\, 5010 14th Ave NW\, Seattle\, WA\, 98107\, United States
CATEGORIES:Community
ATTACH;FMTTYPE=image/png:https://www.visitballard.com/wp-content/uploads/2026/01/Untitled-design-4.png
END:VEVENT
BEGIN:VEVENT
DTSTART;TZID=America/Los_Angeles:20260225T190000
DTEND;TZID=America/Los_Angeles:20260225T220000
DTSTAMP:20260425T180913
CREATED:20260129T182209Z
LAST-MODIFIED:20260129T182209Z
UID:10005153-1772046000-1772056800@www.visitballard.com
SUMMARY:Trivia with Head in the Clouds
DESCRIPTION:Think you’ve got the answers? We’ll see! Grab a pint\, grab your crew\, and battle it out for bragging rights (and prizes). \nJoin us every Wednesday for Trivia Night at Reuben’s Brews taprooms! It’s your mid-week brain refresh with a friendly competitive streak. \nOur trivia hosts keep the pace quick and the categories wide—music\, movies\, local lore\, and the occasional curveball. It’s community tables\, cheers for good answers\, and no gatekeeping. Build a team or join one on arrival. Either way\, you’ll enjoy fresh beer and leave with new facts and a few new friends.
URL:https://www.visitballard.com/event/trivia-with-head-in-the-clouds/2026-02-25/
LOCATION:Reuben’s Brews\, 5010 14th Ave NW\, Seattle\, WA\, 98107\, United States
CATEGORIES:Community
ATTACH;FMTTYPE=image/png:https://www.visitballard.com/wp-content/uploads/2026/01/Untitled-design-4.png
END:VEVENT
BEGIN:VEVENT
DTSTART;TZID=America/Los_Angeles:20260218T190000
DTEND;TZID=America/Los_Angeles:20260218T220000
DTSTAMP:20260425T180913
CREATED:20260129T182209Z
LAST-MODIFIED:20260129T182209Z
UID:10005152-1771441200-1771452000@www.visitballard.com
SUMMARY:Trivia with Head in the Clouds
DESCRIPTION:Think you’ve got the answers? We’ll see! Grab a pint\, grab your crew\, and battle it out for bragging rights (and prizes). \nJoin us every Wednesday for Trivia Night at Reuben’s Brews taprooms! It’s your mid-week brain refresh with a friendly competitive streak. \nOur trivia hosts keep the pace quick and the categories wide—music\, movies\, local lore\, and the occasional curveball. It’s community tables\, cheers for good answers\, and no gatekeeping. Build a team or join one on arrival. Either way\, you’ll enjoy fresh beer and leave with new facts and a few new friends.
URL:https://www.visitballard.com/event/trivia-with-head-in-the-clouds/2026-02-18/
LOCATION:Reuben’s Brews\, 5010 14th Ave NW\, Seattle\, WA\, 98107\, United States
CATEGORIES:Community
ATTACH;FMTTYPE=image/png:https://www.visitballard.com/wp-content/uploads/2026/01/Untitled-design-4.png
END:VEVENT
BEGIN:VEVENT
DTSTART;TZID=America/Los_Angeles:20260211T190000
DTEND;TZID=America/Los_Angeles:20260211T220000
DTSTAMP:20260425T180913
CREATED:20260129T182209Z
LAST-MODIFIED:20260129T182209Z
UID:10005151-1770836400-1770847200@www.visitballard.com
SUMMARY:Trivia with Head in the Clouds
DESCRIPTION:Think you’ve got the answers? We’ll see! Grab a pint\, grab your crew\, and battle it out for bragging rights (and prizes). \nJoin us every Wednesday for Trivia Night at Reuben’s Brews taprooms! It’s your mid-week brain refresh with a friendly competitive streak. \nOur trivia hosts keep the pace quick and the categories wide—music\, movies\, local lore\, and the occasional curveball. It’s community tables\, cheers for good answers\, and no gatekeeping. Build a team or join one on arrival. Either way\, you’ll enjoy fresh beer and leave with new facts and a few new friends.
URL:https://www.visitballard.com/event/trivia-with-head-in-the-clouds/2026-02-11/
LOCATION:Reuben’s Brews\, 5010 14th Ave NW\, Seattle\, WA\, 98107\, United States
CATEGORIES:Community
ATTACH;FMTTYPE=image/png:https://www.visitballard.com/wp-content/uploads/2026/01/Untitled-design-4.png
END:VEVENT
BEGIN:VEVENT
DTSTART;TZID=America/Los_Angeles:20260208T153000
DTEND;TZID=America/Los_Angeles:20260208T190000
DTSTAMP:20260425T180913
CREATED:20260131T162913Z
LAST-MODIFIED:20260131T162913Z
UID:10005673-1770564600-1770577200@www.visitballard.com
SUMMARY:Super Bowl Watch Party at Reuben’s Brews
DESCRIPTION:Looking for the best spot to watch the Seahawks take on the Super Bowl? Pull up a chair with the Reuben’s family! 🍻 \nOn Sunday\, February 8th\, we’re hosting watch parties at both our Ballard and Downtown Seattle taprooms. If you’re looking for a laid-back\, family-friendly spot to catch every play with great beer and even better company\, we’ve got a seat waiting for you. \nWe’ll have the game on with full sound and prize giveaways at every quarter\, but the real MVP of the day is our kitchen special: Nachos! \nWe’re talking corn tortillas loaded with black beans\, diced tomatoes\, pickled jalapeños\, and a decadent blend of our house beer cheese and Beecher’s Flagship cheese. It’s the perfect pairing with the game and a fresh pint. \nThe Details: \nWhen: Sunday\, Feb 8th. Kickoff is at 3:30 PM. \nWhere: Ballard & Downtown Seattle Taprooms. \nVibe: Informal\, inclusive\, and all ages! \nCome early\, grab a table\, and let’s cheer our team to victory together.
URL:https://www.visitballard.com/event/super-bowl-watch-party-at-reubens-brews/
LOCATION:Reuben’s Brews\, 5010 14th Ave NW\, Seattle\, WA\, 98107\, United States
ATTACH;FMTTYPE=image/png:https://www.visitballard.com/wp-content/uploads/2026/01/February.png
END:VEVENT
BEGIN:VEVENT
DTSTART;VALUE=DATE:20260207
DTEND;VALUE=DATE:20260208
DTSTAMP:20260425T180913
CREATED:20260129T003148Z
LAST-MODIFIED:20260129T003148Z
UID:10005671-1770422400-1770508799@www.visitballard.com
SUMMARY:Hop Mob
DESCRIPTION:If you know\, you know. And if you don’t—well\, consider this your invitation to one of the most legendary beer events in the PNW. Hop Mob is back on February 7th\, bringing together some of the best breweries in the region for a night dedicated to hops on hops on hops. \nThis isn’t just another beer fest. It’s a full-fledged Triple IPA takeover\, featuring exclusive releases from Reuben’s Brews and a lineup of special brews from some of the most hop-obsessed breweries in the PNW. Expect bold flavors\, high ABVs\, and enough lupulin to make any hophead weak in the knees. We’ll be tapping Blimey! That’s Bitter and a new brew\, the Triple Crush when doors open at 11 am! \nStay tuned for info on guest brews! \nFor those who remember the early days of Hop Mob\, you know what this means. For those who don’t—trust us\, you don’t want to miss it. \nMark your calendar\, bring your fellow hop fiends\, and prepare for a night of legendary beers. See you on February 7th.
URL:https://www.visitballard.com/event/hop-mob/
LOCATION:Reuben’s Brews\, 5010 14th Ave NW\, Seattle\, WA\, 98107\, United States
CATEGORIES:Community
ATTACH;FMTTYPE=image/png:https://www.visitballard.com/wp-content/uploads/2026/01/Hop-Mob-Poster-26-Instagram-Post-45.png
END:VEVENT
BEGIN:VEVENT
DTSTART;TZID=America/Los_Angeles:20260204T190000
DTEND;TZID=America/Los_Angeles:20260204T220000
DTSTAMP:20260425T180913
CREATED:20260129T182209Z
LAST-MODIFIED:20260129T182209Z
UID:10005150-1770231600-1770242400@www.visitballard.com
SUMMARY:Trivia with Head in the Clouds
DESCRIPTION:Think you’ve got the answers? We’ll see! Grab a pint\, grab your crew\, and battle it out for bragging rights (and prizes). \nJoin us every Wednesday for Trivia Night at Reuben’s Brews taprooms! It’s your mid-week brain refresh with a friendly competitive streak. \nOur trivia hosts keep the pace quick and the categories wide—music\, movies\, local lore\, and the occasional curveball. It’s community tables\, cheers for good answers\, and no gatekeeping. Build a team or join one on arrival. Either way\, you’ll enjoy fresh beer and leave with new facts and a few new friends.
URL:https://www.visitballard.com/event/trivia-with-head-in-the-clouds/2026-02-04/
LOCATION:Reuben’s Brews\, 5010 14th Ave NW\, Seattle\, WA\, 98107\, United States
CATEGORIES:Community
ATTACH;FMTTYPE=image/png:https://www.visitballard.com/wp-content/uploads/2026/01/Untitled-design-4.png
END:VEVENT
BEGIN:VEVENT
DTSTART;TZID=America/Los_Angeles:20260128T190000
DTEND;TZID=America/Los_Angeles:20260128T220000
DTSTAMP:20260425T180913
CREATED:20260129T182209Z
LAST-MODIFIED:20260129T182209Z
UID:10005149-1769626800-1769637600@www.visitballard.com
SUMMARY:Trivia with Head in the Clouds
DESCRIPTION:Think you’ve got the answers? We’ll see! Grab a pint\, grab your crew\, and battle it out for bragging rights (and prizes). \nJoin us every Wednesday for Trivia Night at Reuben’s Brews taprooms! It’s your mid-week brain refresh with a friendly competitive streak. \nOur trivia hosts keep the pace quick and the categories wide—music\, movies\, local lore\, and the occasional curveball. It’s community tables\, cheers for good answers\, and no gatekeeping. Build a team or join one on arrival. Either way\, you’ll enjoy fresh beer and leave with new facts and a few new friends.
URL:https://www.visitballard.com/event/trivia-with-head-in-the-clouds/2026-01-28/
LOCATION:Reuben’s Brews\, 5010 14th Ave NW\, Seattle\, WA\, 98107\, United States
CATEGORIES:Community
ATTACH;FMTTYPE=image/png:https://www.visitballard.com/wp-content/uploads/2026/01/Untitled-design-4.png
END:VEVENT
END:VCALENDAR