BEGIN:VCALENDAR
VERSION:2.0
PRODID:-//Visit Ballard - ECPv6.15.20//NONSGML v1.0//EN
CALSCALE:GREGORIAN
METHOD:PUBLISH
X-ORIGINAL-URL:https://www.visitballard.com
X-WR-CALDESC:Events for Visit Ballard
REFRESH-INTERVAL;VALUE=DURATION:PT1H
X-Robots-Tag:noindex
X-PUBLISHED-TTL:PT1H
BEGIN:VTIMEZONE
TZID:America/Los_Angeles
BEGIN:DAYLIGHT
TZOFFSETFROM:-0800
TZOFFSETTO:-0700
TZNAME:PDT
DTSTART:20290311T100000
END:DAYLIGHT
BEGIN:STANDARD
TZOFFSETFROM:-0700
TZOFFSETTO:-0800
TZNAME:PST
DTSTART:20291104T090000
END:STANDARD
BEGIN:DAYLIGHT
TZOFFSETFROM:-0800
TZOFFSETTO:-0700
TZNAME:PDT
DTSTART:20300310T100000
END:DAYLIGHT
BEGIN:STANDARD
TZOFFSETFROM:-0700
TZOFFSETTO:-0800
TZNAME:PST
DTSTART:20301103T090000
END:STANDARD
BEGIN:DAYLIGHT
TZOFFSETFROM:-0800
TZOFFSETTO:-0700
TZNAME:PDT
DTSTART:20310309T100000
END:DAYLIGHT
BEGIN:STANDARD
TZOFFSETFROM:-0700
TZOFFSETTO:-0800
TZNAME:PST
DTSTART:20311102T090000
END:STANDARD
END:VTIMEZONE
BEGIN:VEVENT
DTSTART;TZID=America/Los_Angeles:20301202T183000
DTEND;TZID=America/Los_Angeles:20301202T200000
DTSTAMP:20260425T083208
CREATED:20251208T174212Z
LAST-MODIFIED:20251222T190745Z
UID:10002552-1922466600-1922472000@www.visitballard.com
SUMMARY:Bingo Monday
DESCRIPTION:Kick off your week with Bingo every Monday at Ballard Beer Box!\nMondays just got a whole lot more fun. Join us for an evening of laughs\, lucky numbers\, and the perfect mix of food and drinks to set the tone for the week. Enjoy our signature pizzas made with organic\, slow-fermented dough\, paired with an exceptional lineup of craft beer and natural wine poured fresh from our taps. \nWhether you’re here to win big or simply unwind\, Bingo Monday is the best way to recharge and reconnect. Gather your team\, enjoy a slice\, raise a glass\, and let the positive energy flow. \nJoin us every Monday—eat\, sip\, play\, and win at Ballard Beer Box!
URL:https://www.visitballard.com/event/bingo-monday/2030-12-02/
LOCATION:ballard beer box\, 2446 NW Market St\, Seattle\, WA 98107\, Seattle\, WA\, 98107\, United States
ATTACH;FMTTYPE=image/jpeg:https://www.visitballard.com/wp-content/uploads/2025/12/Bingo.jpg
ORGANIZER;CN="ballard beer box":MAILTO:info@ballardbeerbox.com
END:VEVENT
BEGIN:VEVENT
DTSTART;TZID=America/Los_Angeles:20301209T183000
DTEND;TZID=America/Los_Angeles:20301209T200000
DTSTAMP:20260425T083208
CREATED:20251208T174212Z
LAST-MODIFIED:20251222T190745Z
UID:10002553-1923071400-1923076800@www.visitballard.com
SUMMARY:Bingo Monday
DESCRIPTION:Kick off your week with Bingo every Monday at Ballard Beer Box!\nMondays just got a whole lot more fun. Join us for an evening of laughs\, lucky numbers\, and the perfect mix of food and drinks to set the tone for the week. Enjoy our signature pizzas made with organic\, slow-fermented dough\, paired with an exceptional lineup of craft beer and natural wine poured fresh from our taps. \nWhether you’re here to win big or simply unwind\, Bingo Monday is the best way to recharge and reconnect. Gather your team\, enjoy a slice\, raise a glass\, and let the positive energy flow. \nJoin us every Monday—eat\, sip\, play\, and win at Ballard Beer Box!
URL:https://www.visitballard.com/event/bingo-monday/2030-12-09/
LOCATION:ballard beer box\, 2446 NW Market St\, Seattle\, WA 98107\, Seattle\, WA\, 98107\, United States
ATTACH;FMTTYPE=image/jpeg:https://www.visitballard.com/wp-content/uploads/2025/12/Bingo.jpg
ORGANIZER;CN="ballard beer box":MAILTO:info@ballardbeerbox.com
END:VEVENT
BEGIN:VEVENT
DTSTART;TZID=America/Los_Angeles:20301216T183000
DTEND;TZID=America/Los_Angeles:20301216T200000
DTSTAMP:20260425T083208
CREATED:20251208T174212Z
LAST-MODIFIED:20251222T190745Z
UID:10002554-1923676200-1923681600@www.visitballard.com
SUMMARY:Bingo Monday
DESCRIPTION:Kick off your week with Bingo every Monday at Ballard Beer Box!\nMondays just got a whole lot more fun. Join us for an evening of laughs\, lucky numbers\, and the perfect mix of food and drinks to set the tone for the week. Enjoy our signature pizzas made with organic\, slow-fermented dough\, paired with an exceptional lineup of craft beer and natural wine poured fresh from our taps. \nWhether you’re here to win big or simply unwind\, Bingo Monday is the best way to recharge and reconnect. Gather your team\, enjoy a slice\, raise a glass\, and let the positive energy flow. \nJoin us every Monday—eat\, sip\, play\, and win at Ballard Beer Box!
URL:https://www.visitballard.com/event/bingo-monday/2030-12-16/
LOCATION:ballard beer box\, 2446 NW Market St\, Seattle\, WA 98107\, Seattle\, WA\, 98107\, United States
ATTACH;FMTTYPE=image/jpeg:https://www.visitballard.com/wp-content/uploads/2025/12/Bingo.jpg
ORGANIZER;CN="ballard beer box":MAILTO:info@ballardbeerbox.com
END:VEVENT
END:VCALENDAR