BEGIN:VCALENDAR
VERSION:2.0
PRODID:-//Visit Ballard - ECPv6.15.20//NONSGML v1.0//EN
CALSCALE:GREGORIAN
METHOD:PUBLISH
X-WR-CALNAME:Visit Ballard
X-ORIGINAL-URL:https://www.visitballard.com
X-WR-CALDESC:Events for Visit Ballard
REFRESH-INTERVAL;VALUE=DURATION:PT1H
X-Robots-Tag:noindex
X-PUBLISHED-TTL:PT1H
BEGIN:VTIMEZONE
TZID:America/Los_Angeles
BEGIN:DAYLIGHT
TZOFFSETFROM:-0800
TZOFFSETTO:-0700
TZNAME:PDT
DTSTART:20250309T100000
END:DAYLIGHT
BEGIN:STANDARD
TZOFFSETFROM:-0700
TZOFFSETTO:-0800
TZNAME:PST
DTSTART:20251102T090000
END:STANDARD
BEGIN:DAYLIGHT
TZOFFSETFROM:-0800
TZOFFSETTO:-0700
TZNAME:PDT
DTSTART:20260308T100000
END:DAYLIGHT
BEGIN:STANDARD
TZOFFSETFROM:-0700
TZOFFSETTO:-0800
TZNAME:PST
DTSTART:20261101T090000
END:STANDARD
BEGIN:DAYLIGHT
TZOFFSETFROM:-0800
TZOFFSETTO:-0700
TZNAME:PDT
DTSTART:20270314T100000
END:DAYLIGHT
BEGIN:STANDARD
TZOFFSETFROM:-0700
TZOFFSETTO:-0800
TZNAME:PST
DTSTART:20271107T090000
END:STANDARD
END:VTIMEZONE
BEGIN:VEVENT
DTSTART;TZID=America/Los_Angeles:20260502T150000
DTEND;TZID=America/Los_Angeles:20260502T163000
DTSTAMP:20260421T154359
CREATED:20260314T000711Z
LAST-MODIFIED:20260314T000711Z
UID:10005768-1777734000-1777739400@www.visitballard.com
SUMMARY:Game & Puzzle Exchange
DESCRIPTION:We’re excited to host our second Game & Puzzle Exchange of 2026\, and we’d love to have you join us for another fun\, community‑centered swap! \n📅 Date: Saturday\, May 2\n⏰ Time: 3:00 PM – 4:30 PM\n📍 Location: Ballard Library \nBring a board game\, card game\, or puzzle in good condition—and go home with something new-to-you! \nWhat to Bring\nBoard and card games for all ages\nPuzzles for all ages\nItems should be in good condition and include all pieces \nHow It Works\nThis is an open‑house style swap: bring a game or puzzle\, browse the selection\, and take one home. It’s simple\, fun\, and a great way to keep good items in circulation. \nFriendly Reminder\nThis is a swap\, not a donation site. Please keep quantities reasonable unless you plan to take some home too—let’s keep it fair and enjoyable for everyone! \nNo RSVP needed—just stop by and join the fun! \nQuestions? Reach out to Ashlee at ashlee@sustainableballard.org. \nHope to see you there for another great exchange!
URL:https://www.visitballard.com/event/game-puzzle-exchange-2/
LOCATION:Ballard Branch – Seattle Public Library\, 5614 22nd Ave NW\, Seattle\, WA\, 98107\, United States
CATEGORIES:Community
ATTACH;FMTTYPE=image/jpeg:https://www.visitballard.com/wp-content/uploads/2026/03/Game-and-puzzle-exchange-pic-for-marketing.jpg
END:VEVENT
END:VCALENDAR