BEGIN:VCALENDAR
VERSION:2.0
PRODID:-//Visit Ballard - ECPv6.15.20//NONSGML v1.0//EN
CALSCALE:GREGORIAN
METHOD:PUBLISH
X-WR-CALNAME:Visit Ballard
X-ORIGINAL-URL:https://www.visitballard.com
X-WR-CALDESC:Events for Visit Ballard
REFRESH-INTERVAL;VALUE=DURATION:PT1H
X-Robots-Tag:noindex
X-PUBLISHED-TTL:PT1H
BEGIN:VTIMEZONE
TZID:America/Los_Angeles
BEGIN:DAYLIGHT
TZOFFSETFROM:-0800
TZOFFSETTO:-0700
TZNAME:PDT
DTSTART:20250309T100000
END:DAYLIGHT
BEGIN:STANDARD
TZOFFSETFROM:-0700
TZOFFSETTO:-0800
TZNAME:PST
DTSTART:20251102T090000
END:STANDARD
BEGIN:DAYLIGHT
TZOFFSETFROM:-0800
TZOFFSETTO:-0700
TZNAME:PDT
DTSTART:20260308T100000
END:DAYLIGHT
BEGIN:STANDARD
TZOFFSETFROM:-0700
TZOFFSETTO:-0800
TZNAME:PST
DTSTART:20261101T090000
END:STANDARD
BEGIN:DAYLIGHT
TZOFFSETFROM:-0800
TZOFFSETTO:-0700
TZNAME:PDT
DTSTART:20270314T100000
END:DAYLIGHT
BEGIN:STANDARD
TZOFFSETFROM:-0700
TZOFFSETTO:-0800
TZNAME:PST
DTSTART:20271107T090000
END:STANDARD
END:VTIMEZONE
BEGIN:VEVENT
DTSTART;TZID=America/Los_Angeles:20260201T140000
DTEND;TZID=America/Los_Angeles:20260201T153000
DTSTAMP:20260421T152801
CREATED:20260119T194942Z
LAST-MODIFIED:20260119T195407Z
UID:10005137-1769954400-1769959800@www.visitballard.com
SUMMARY:Seattle-Bergen Sister City Association Annual Meeting
DESCRIPTION:Get ready to mingle\, learn\, and share ideas at the SBSCA Annual Meeting 2026 \nPlease join us for the 2026 Seattle-Bergen Sister City Annual Meeting\, where we will review our activities in 2025\, present our work plan for 2026\, and elect a new board of officers. We will also present the exclusive Crossings Jewelry Collection from our partners at Sylvsmidja in Voss\, Norway\, available for purchase in the Museum store. \nAfterwards\, enjoy a cup of coffee with members and friends at the Freya Café or tour the exhibit “New Nordic: Cuisine\, Aesthetics and Place” from the National Museum in Oslo or admire the beautiful collage artworks by local artist Eva Isaksen with her exhibition “Shapes for Fall” on display in Fjord Hall. \nEveryone is welcome!
URL:https://www.visitballard.com/event/seattle-bergen-sister-city-association-annual-meeting/
LOCATION:National Nordic Museum\, 2655 NW Market St\, Seattle\, WA\, 98107\, United States
CATEGORIES:Community
ATTACH;FMTTYPE=image/png:https://www.visitballard.com/wp-content/uploads/2026/01/Bryggen-Dusk.png
ORGANIZER;CN="Seattle-Bergen Sister City Association":MAILTO:info@seattle-bergen.org
END:VEVENT
END:VCALENDAR