BEGIN:VCALENDAR
VERSION:2.0
PRODID:-//Visit Ballard - ECPv6.15.20//NONSGML v1.0//EN
CALSCALE:GREGORIAN
METHOD:PUBLISH
X-ORIGINAL-URL:https://www.visitballard.com
X-WR-CALDESC:Events for Visit Ballard
REFRESH-INTERVAL;VALUE=DURATION:PT1H
X-Robots-Tag:noindex
X-PUBLISHED-TTL:PT1H
BEGIN:VTIMEZONE
TZID:America/Los_Angeles
BEGIN:DAYLIGHT
TZOFFSETFROM:-0800
TZOFFSETTO:-0700
TZNAME:PDT
DTSTART:20250309T100000
END:DAYLIGHT
BEGIN:STANDARD
TZOFFSETFROM:-0700
TZOFFSETTO:-0800
TZNAME:PST
DTSTART:20251102T090000
END:STANDARD
BEGIN:DAYLIGHT
TZOFFSETFROM:-0800
TZOFFSETTO:-0700
TZNAME:PDT
DTSTART:20260308T100000
END:DAYLIGHT
BEGIN:STANDARD
TZOFFSETFROM:-0700
TZOFFSETTO:-0800
TZNAME:PST
DTSTART:20261101T090000
END:STANDARD
BEGIN:DAYLIGHT
TZOFFSETFROM:-0800
TZOFFSETTO:-0700
TZNAME:PDT
DTSTART:20270314T100000
END:DAYLIGHT
BEGIN:STANDARD
TZOFFSETFROM:-0700
TZOFFSETTO:-0800
TZNAME:PST
DTSTART:20271107T090000
END:STANDARD
END:VTIMEZONE
BEGIN:VEVENT
DTSTART;TZID=America/Los_Angeles:20260405T103000
DTEND;TZID=America/Los_Angeles:20260405T210000
DTSTAMP:20260421T064729
CREATED:20260324T185507Z
LAST-MODIFIED:20260325T210749Z
UID:10005786-1775385000-1775422800@www.visitballard.com
SUMMARY:Easter at Ray's Boathouse & Cafe
DESCRIPTION:Gather the family at Ray’s for a delicious Easter brunch or dinner on the Ballard waterfront on Sunday\, April 5\, 2026! \nEaster reservations are strongly encouraged for Ray’s 2nd floor Cafe and in the 1st floor Boathouse. They can accommodate parties of 10 people or fewer\, including high chairs. \nCAFE EASTER BUFFET (2nd floor)\nEnjoy Ray’s Cafe grand holiday buffet from 9am (first seating) to 8pm (last seating). $110 per person including coffee\, juice and sodas (excluding tax and gratuity). $50 for children 5 to 11 years of age. \nCafe Menu\nComplete range of appetizers\, salads\, entrees\, and desserts\, plus Ray’s traditional carving and shellfish action stations featuring Northwest seafood. Breakfast items will be served on the buffet until 3pm then we will transition to a dinner buffet until 9pm. \nThe Cafe Bar will be open from 9am (first seating) to 8pm (last seating) and is seated on a first come basis. Cafe Bar is 21 and over only. \nBOATHOUSE EASTER BRUNCH & DINNER (1st floor)\nBoathouse Brunch\n10:30am (first seating) to 3pm (last seating)\nEnjoy Ray’s best-selling a la carte Boathouse appetizers\, salads and entrées along with holiday inspired breakfast and brunch specials. \nBoathouse Easter Brunch a la Carte Menu \n• Berry Parfait\, vanilla bean whipped yogurt\, mixed berries\, house made granola\, honey\n• Avocado Toast\, toasted Seawolf Sourdough\, smashed avocado\, 6 ½ minute eggs\, pickled red onion\, cherry tomatoes\, everything bagel seasoning\n• Vegetarian Quiche\, asparagus\, mushrooms\, spinach\, gruyere\, fried breakfast potatoes\, mixed green salads\n• Steak and Eggs\, Coulotte Steak\, two eggs\, fried breakfast potatoes\, chimichurri\n• 8 oz house ground beef burger\, brioche bun\, American cheese\, shredded lettuce\, special sauce\, fried breakfast potatoes\n• Two Eggs\, choice of bacon or Uli’s breakfast sausage\, fried breakfast potatoes\, toasted Seawolf sourdough\n• Challah French Toast\, Uli’s Breakfast sausage\, spiced Vermont maple syrup\, Chantilly cream\, fresh berries\, fried breakfast potatoes\n• Hangtown Fry\, fried oysters\, scrambled eggs with Pancetta\, chives\, hollandaise\, toasted sourdough\n• Chicken Schnitzel Salad\, pounded and breaded chicken breast\, avocado mousse\, gem lettuce\, green goddess\, pickled red onions\, radish\, toasted sesame seeds \nBoathouse Dinner\n3pm (first seating) to 8pm (last seating)\nEnjoy Ray’s full a la carte dinner menu alongside an $85 Easter inspired 3-course dinner menu of appetizer\, entrée and dessert (beverages\, tax and gratuity not included). Full children’s menu available all day. \nBoathouse Easter 3-Course Dinner\nchoose one item from each course \nAppetizers\n• Cucumber and Avocado Gazpacho\, mint\, English peas\, pickled red onions\, yogurt GF\n• Strawberry and Arugula Salad\, goat cheese\, honey balsamic vinaigrette\, toasted almonds GF\n• Sumac Crusted Albacore Tuna\, tzatziki sauce\, pickled fennel\, radish\, cucumber GF \nEntrees\n• Double R Ranch Spice Rubbed Prime Rib of Beef\, garlic whipped potatoes\, seared broccolini\, demi-glace GF\n• Fresh PNW Halibut\, carrot-ginger puree\, fried Yukon potatoes\, seared asparagus\, miso beurre blanc\n• Roasted Cauliflower Steak\, chili garlic labneh\, hot pepper relish\, pomegranate syrup GF \nDesserts\n• Carrot-Coconut Cake\, candied pecans\, cream cheese frosting\, butterscotch sauce\n• Chocolate Budino\, miso caramel\, chocolate sable cookie\n• Olympic Mountain Ice Cream/Sorbet
URL:https://www.visitballard.com/event/easter-at-rays-boathouse-cafe/
LOCATION:Ray’s Boathouse\, 6049 Seaview Avenue NW\, Seattle\, 98107-2690
CATEGORIES:Community
ATTACH;FMTTYPE=image/jpeg:https://www.visitballard.com/wp-content/uploads/2026/03/Rays-Boathouse-Dining-Room-at-Sunset-scaled.jpg
ORGANIZER;CN="Ray's Boathouse":MAILTO:lauren@evadopr.com
END:VEVENT
END:VCALENDAR