BEGIN:VCALENDAR
VERSION:2.0
PRODID:-//Visit Ballard - ECPv6.15.20//NONSGML v1.0//EN
CALSCALE:GREGORIAN
METHOD:PUBLISH
X-WR-CALNAME:Visit Ballard
X-ORIGINAL-URL:https://www.visitballard.com
X-WR-CALDESC:Events for Visit Ballard
REFRESH-INTERVAL;VALUE=DURATION:PT1H
X-Robots-Tag:noindex
X-PUBLISHED-TTL:PT1H
BEGIN:VTIMEZONE
TZID:America/Los_Angeles
BEGIN:DAYLIGHT
TZOFFSETFROM:-0800
TZOFFSETTO:-0700
TZNAME:PDT
DTSTART:20280312T100000
END:DAYLIGHT
BEGIN:STANDARD
TZOFFSETFROM:-0700
TZOFFSETTO:-0800
TZNAME:PST
DTSTART:20281105T090000
END:STANDARD
BEGIN:DAYLIGHT
TZOFFSETFROM:-0800
TZOFFSETTO:-0700
TZNAME:PDT
DTSTART:20290311T100000
END:DAYLIGHT
BEGIN:STANDARD
TZOFFSETFROM:-0700
TZOFFSETTO:-0800
TZNAME:PST
DTSTART:20291104T090000
END:STANDARD
BEGIN:DAYLIGHT
TZOFFSETFROM:-0800
TZOFFSETTO:-0700
TZNAME:PDT
DTSTART:20300310T100000
END:DAYLIGHT
BEGIN:STANDARD
TZOFFSETFROM:-0700
TZOFFSETTO:-0800
TZNAME:PST
DTSTART:20301103T090000
END:STANDARD
BEGIN:DAYLIGHT
TZOFFSETFROM:-0800
TZOFFSETTO:-0700
TZNAME:PDT
DTSTART:20310309T100000
END:DAYLIGHT
BEGIN:STANDARD
TZOFFSETFROM:-0700
TZOFFSETTO:-0800
TZNAME:PST
DTSTART:20311102T090000
END:STANDARD
END:VTIMEZONE
BEGIN:VEVENT
DTSTART;TZID=America/Los_Angeles:20291230T193000
DTEND;TZID=America/Los_Angeles:20291231T010000
DTSTAMP:20260421T051603
CREATED:20251103T232612Z
LAST-MODIFIED:20251105T160751Z
UID:10000632-1893353400-1893373200@www.visitballard.com
SUMMARY:Conor Byrne Open Mic Nights
DESCRIPTION:Share your talent or enjoy new music by local artists at the Conor Byrne Coop on Sundays from 8 PM – 1 AM. Doors open at 7:30 PM.
URL:https://www.visitballard.com/event/conor-byrne-open-mic-nights/2029-12-30/
LOCATION:Conor Byrne Pub\, 5140 Ballard Ave NW\, Seattle\, WA\, 98107\, United States
CATEGORIES:Community
ATTACH;FMTTYPE=image/png:https://www.visitballard.com/wp-content/uploads/2025/11/Screenshot-2025-11-05-at-8.06.54-AM.png
END:VEVENT
BEGIN:VEVENT
DTSTART;TZID=America/Los_Angeles:20300106T193000
DTEND;TZID=America/Los_Angeles:20300107T010000
DTSTAMP:20260421T051603
CREATED:20251103T232612Z
LAST-MODIFIED:20251105T160751Z
UID:10000633-1893958200-1893978000@www.visitballard.com
SUMMARY:Conor Byrne Open Mic Nights
DESCRIPTION:Share your talent or enjoy new music by local artists at the Conor Byrne Coop on Sundays from 8 PM – 1 AM. Doors open at 7:30 PM.
URL:https://www.visitballard.com/event/conor-byrne-open-mic-nights/2030-01-06/
LOCATION:Conor Byrne Pub\, 5140 Ballard Ave NW\, Seattle\, WA\, 98107\, United States
CATEGORIES:Community
ATTACH;FMTTYPE=image/png:https://www.visitballard.com/wp-content/uploads/2025/11/Screenshot-2025-11-05-at-8.06.54-AM.png
END:VEVENT
BEGIN:VEVENT
DTSTART;TZID=America/Los_Angeles:20300113T193000
DTEND;TZID=America/Los_Angeles:20300114T010000
DTSTAMP:20260421T051603
CREATED:20251103T232612Z
LAST-MODIFIED:20251105T160751Z
UID:10000634-1894563000-1894582800@www.visitballard.com
SUMMARY:Conor Byrne Open Mic Nights
DESCRIPTION:Share your talent or enjoy new music by local artists at the Conor Byrne Coop on Sundays from 8 PM – 1 AM. Doors open at 7:30 PM.
URL:https://www.visitballard.com/event/conor-byrne-open-mic-nights/2030-01-13/
LOCATION:Conor Byrne Pub\, 5140 Ballard Ave NW\, Seattle\, WA\, 98107\, United States
CATEGORIES:Community
ATTACH;FMTTYPE=image/png:https://www.visitballard.com/wp-content/uploads/2025/11/Screenshot-2025-11-05-at-8.06.54-AM.png
END:VEVENT
BEGIN:VEVENT
DTSTART;TZID=America/Los_Angeles:20300120T193000
DTEND;TZID=America/Los_Angeles:20300121T010000
DTSTAMP:20260421T051603
CREATED:20251103T232612Z
LAST-MODIFIED:20251105T160751Z
UID:10000635-1895167800-1895187600@www.visitballard.com
SUMMARY:Conor Byrne Open Mic Nights
DESCRIPTION:Share your talent or enjoy new music by local artists at the Conor Byrne Coop on Sundays from 8 PM – 1 AM. Doors open at 7:30 PM.
URL:https://www.visitballard.com/event/conor-byrne-open-mic-nights/2030-01-20/
LOCATION:Conor Byrne Pub\, 5140 Ballard Ave NW\, Seattle\, WA\, 98107\, United States
CATEGORIES:Community
ATTACH;FMTTYPE=image/png:https://www.visitballard.com/wp-content/uploads/2025/11/Screenshot-2025-11-05-at-8.06.54-AM.png
END:VEVENT
BEGIN:VEVENT
DTSTART;TZID=America/Los_Angeles:20300127T193000
DTEND;TZID=America/Los_Angeles:20300128T010000
DTSTAMP:20260421T051603
CREATED:20251103T232612Z
LAST-MODIFIED:20251105T160751Z
UID:10000636-1895772600-1895792400@www.visitballard.com
SUMMARY:Conor Byrne Open Mic Nights
DESCRIPTION:Share your talent or enjoy new music by local artists at the Conor Byrne Coop on Sundays from 8 PM – 1 AM. Doors open at 7:30 PM.
URL:https://www.visitballard.com/event/conor-byrne-open-mic-nights/2030-01-27/
LOCATION:Conor Byrne Pub\, 5140 Ballard Ave NW\, Seattle\, WA\, 98107\, United States
CATEGORIES:Community
ATTACH;FMTTYPE=image/png:https://www.visitballard.com/wp-content/uploads/2025/11/Screenshot-2025-11-05-at-8.06.54-AM.png
END:VEVENT
BEGIN:VEVENT
DTSTART;TZID=America/Los_Angeles:20300203T193000
DTEND;TZID=America/Los_Angeles:20300204T010000
DTSTAMP:20260421T051603
CREATED:20251103T232612Z
LAST-MODIFIED:20251105T160751Z
UID:10000637-1896377400-1896397200@www.visitballard.com
SUMMARY:Conor Byrne Open Mic Nights
DESCRIPTION:Share your talent or enjoy new music by local artists at the Conor Byrne Coop on Sundays from 8 PM – 1 AM. Doors open at 7:30 PM.
URL:https://www.visitballard.com/event/conor-byrne-open-mic-nights/2030-02-03/
LOCATION:Conor Byrne Pub\, 5140 Ballard Ave NW\, Seattle\, WA\, 98107\, United States
CATEGORIES:Community
ATTACH;FMTTYPE=image/png:https://www.visitballard.com/wp-content/uploads/2025/11/Screenshot-2025-11-05-at-8.06.54-AM.png
END:VEVENT
BEGIN:VEVENT
DTSTART;TZID=America/Los_Angeles:20300210T193000
DTEND;TZID=America/Los_Angeles:20300211T010000
DTSTAMP:20260421T051603
CREATED:20251103T232612Z
LAST-MODIFIED:20251105T160751Z
UID:10000638-1896982200-1897002000@www.visitballard.com
SUMMARY:Conor Byrne Open Mic Nights
DESCRIPTION:Share your talent or enjoy new music by local artists at the Conor Byrne Coop on Sundays from 8 PM – 1 AM. Doors open at 7:30 PM.
URL:https://www.visitballard.com/event/conor-byrne-open-mic-nights/2030-02-10/
LOCATION:Conor Byrne Pub\, 5140 Ballard Ave NW\, Seattle\, WA\, 98107\, United States
CATEGORIES:Community
ATTACH;FMTTYPE=image/png:https://www.visitballard.com/wp-content/uploads/2025/11/Screenshot-2025-11-05-at-8.06.54-AM.png
END:VEVENT
BEGIN:VEVENT
DTSTART;TZID=America/Los_Angeles:20300217T193000
DTEND;TZID=America/Los_Angeles:20300218T010000
DTSTAMP:20260421T051603
CREATED:20251103T232612Z
LAST-MODIFIED:20251105T160751Z
UID:10000639-1897587000-1897606800@www.visitballard.com
SUMMARY:Conor Byrne Open Mic Nights
DESCRIPTION:Share your talent or enjoy new music by local artists at the Conor Byrne Coop on Sundays from 8 PM – 1 AM. Doors open at 7:30 PM.
URL:https://www.visitballard.com/event/conor-byrne-open-mic-nights/2030-02-17/
LOCATION:Conor Byrne Pub\, 5140 Ballard Ave NW\, Seattle\, WA\, 98107\, United States
CATEGORIES:Community
ATTACH;FMTTYPE=image/png:https://www.visitballard.com/wp-content/uploads/2025/11/Screenshot-2025-11-05-at-8.06.54-AM.png
END:VEVENT
BEGIN:VEVENT
DTSTART;TZID=America/Los_Angeles:20300224T193000
DTEND;TZID=America/Los_Angeles:20300225T010000
DTSTAMP:20260421T051603
CREATED:20251103T232612Z
LAST-MODIFIED:20251105T160751Z
UID:10000640-1898191800-1898211600@www.visitballard.com
SUMMARY:Conor Byrne Open Mic Nights
DESCRIPTION:Share your talent or enjoy new music by local artists at the Conor Byrne Coop on Sundays from 8 PM – 1 AM. Doors open at 7:30 PM.
URL:https://www.visitballard.com/event/conor-byrne-open-mic-nights/2030-02-24/
LOCATION:Conor Byrne Pub\, 5140 Ballard Ave NW\, Seattle\, WA\, 98107\, United States
CATEGORIES:Community
ATTACH;FMTTYPE=image/png:https://www.visitballard.com/wp-content/uploads/2025/11/Screenshot-2025-11-05-at-8.06.54-AM.png
END:VEVENT
BEGIN:VEVENT
DTSTART;TZID=America/Los_Angeles:20300303T193000
DTEND;TZID=America/Los_Angeles:20300304T010000
DTSTAMP:20260421T051603
CREATED:20251103T232612Z
LAST-MODIFIED:20251105T160751Z
UID:10000641-1898796600-1898816400@www.visitballard.com
SUMMARY:Conor Byrne Open Mic Nights
DESCRIPTION:Share your talent or enjoy new music by local artists at the Conor Byrne Coop on Sundays from 8 PM – 1 AM. Doors open at 7:30 PM.
URL:https://www.visitballard.com/event/conor-byrne-open-mic-nights/2030-03-03/
LOCATION:Conor Byrne Pub\, 5140 Ballard Ave NW\, Seattle\, WA\, 98107\, United States
CATEGORIES:Community
ATTACH;FMTTYPE=image/png:https://www.visitballard.com/wp-content/uploads/2025/11/Screenshot-2025-11-05-at-8.06.54-AM.png
END:VEVENT
BEGIN:VEVENT
DTSTART;TZID=America/Los_Angeles:20300310T193000
DTEND;TZID=America/Los_Angeles:20300311T010000
DTSTAMP:20260421T051603
CREATED:20251103T232612Z
LAST-MODIFIED:20251105T160751Z
UID:10000642-1899401400-1899421200@www.visitballard.com
SUMMARY:Conor Byrne Open Mic Nights
DESCRIPTION:Share your talent or enjoy new music by local artists at the Conor Byrne Coop on Sundays from 8 PM – 1 AM. Doors open at 7:30 PM.
URL:https://www.visitballard.com/event/conor-byrne-open-mic-nights/2030-03-10/
LOCATION:Conor Byrne Pub\, 5140 Ballard Ave NW\, Seattle\, WA\, 98107\, United States
CATEGORIES:Community
ATTACH;FMTTYPE=image/png:https://www.visitballard.com/wp-content/uploads/2025/11/Screenshot-2025-11-05-at-8.06.54-AM.png
END:VEVENT
BEGIN:VEVENT
DTSTART;TZID=America/Los_Angeles:20300317T193000
DTEND;TZID=America/Los_Angeles:20300318T010000
DTSTAMP:20260421T051603
CREATED:20251103T232612Z
LAST-MODIFIED:20251105T160751Z
UID:10000643-1900006200-1900026000@www.visitballard.com
SUMMARY:Conor Byrne Open Mic Nights
DESCRIPTION:Share your talent or enjoy new music by local artists at the Conor Byrne Coop on Sundays from 8 PM – 1 AM. Doors open at 7:30 PM.
URL:https://www.visitballard.com/event/conor-byrne-open-mic-nights/2030-03-17/
LOCATION:Conor Byrne Pub\, 5140 Ballard Ave NW\, Seattle\, WA\, 98107\, United States
CATEGORIES:Community
ATTACH;FMTTYPE=image/png:https://www.visitballard.com/wp-content/uploads/2025/11/Screenshot-2025-11-05-at-8.06.54-AM.png
END:VEVENT
BEGIN:VEVENT
DTSTART;TZID=America/Los_Angeles:20300324T193000
DTEND;TZID=America/Los_Angeles:20300325T010000
DTSTAMP:20260421T051603
CREATED:20251103T232612Z
LAST-MODIFIED:20251105T160751Z
UID:10000644-1900611000-1900630800@www.visitballard.com
SUMMARY:Conor Byrne Open Mic Nights
DESCRIPTION:Share your talent or enjoy new music by local artists at the Conor Byrne Coop on Sundays from 8 PM – 1 AM. Doors open at 7:30 PM.
URL:https://www.visitballard.com/event/conor-byrne-open-mic-nights/2030-03-24/
LOCATION:Conor Byrne Pub\, 5140 Ballard Ave NW\, Seattle\, WA\, 98107\, United States
CATEGORIES:Community
ATTACH;FMTTYPE=image/png:https://www.visitballard.com/wp-content/uploads/2025/11/Screenshot-2025-11-05-at-8.06.54-AM.png
END:VEVENT
BEGIN:VEVENT
DTSTART;TZID=America/Los_Angeles:20300331T193000
DTEND;TZID=America/Los_Angeles:20300401T010000
DTSTAMP:20260421T051603
CREATED:20251103T232612Z
LAST-MODIFIED:20251105T160751Z
UID:10000645-1901215800-1901235600@www.visitballard.com
SUMMARY:Conor Byrne Open Mic Nights
DESCRIPTION:Share your talent or enjoy new music by local artists at the Conor Byrne Coop on Sundays from 8 PM – 1 AM. Doors open at 7:30 PM.
URL:https://www.visitballard.com/event/conor-byrne-open-mic-nights/2030-03-31/
LOCATION:Conor Byrne Pub\, 5140 Ballard Ave NW\, Seattle\, WA\, 98107\, United States
CATEGORIES:Community
ATTACH;FMTTYPE=image/png:https://www.visitballard.com/wp-content/uploads/2025/11/Screenshot-2025-11-05-at-8.06.54-AM.png
END:VEVENT
BEGIN:VEVENT
DTSTART;TZID=America/Los_Angeles:20300407T193000
DTEND;TZID=America/Los_Angeles:20300408T010000
DTSTAMP:20260421T051603
CREATED:20251103T232612Z
LAST-MODIFIED:20251105T160751Z
UID:10000646-1901820600-1901840400@www.visitballard.com
SUMMARY:Conor Byrne Open Mic Nights
DESCRIPTION:Share your talent or enjoy new music by local artists at the Conor Byrne Coop on Sundays from 8 PM – 1 AM. Doors open at 7:30 PM.
URL:https://www.visitballard.com/event/conor-byrne-open-mic-nights/2030-04-07/
LOCATION:Conor Byrne Pub\, 5140 Ballard Ave NW\, Seattle\, WA\, 98107\, United States
CATEGORIES:Community
ATTACH;FMTTYPE=image/png:https://www.visitballard.com/wp-content/uploads/2025/11/Screenshot-2025-11-05-at-8.06.54-AM.png
END:VEVENT
BEGIN:VEVENT
DTSTART;TZID=America/Los_Angeles:20300414T193000
DTEND;TZID=America/Los_Angeles:20300415T010000
DTSTAMP:20260421T051603
CREATED:20251103T232612Z
LAST-MODIFIED:20251105T160751Z
UID:10000647-1902425400-1902445200@www.visitballard.com
SUMMARY:Conor Byrne Open Mic Nights
DESCRIPTION:Share your talent or enjoy new music by local artists at the Conor Byrne Coop on Sundays from 8 PM – 1 AM. Doors open at 7:30 PM.
URL:https://www.visitballard.com/event/conor-byrne-open-mic-nights/2030-04-14/
LOCATION:Conor Byrne Pub\, 5140 Ballard Ave NW\, Seattle\, WA\, 98107\, United States
CATEGORIES:Community
ATTACH;FMTTYPE=image/png:https://www.visitballard.com/wp-content/uploads/2025/11/Screenshot-2025-11-05-at-8.06.54-AM.png
END:VEVENT
BEGIN:VEVENT
DTSTART;TZID=America/Los_Angeles:20300421T193000
DTEND;TZID=America/Los_Angeles:20300422T010000
DTSTAMP:20260421T051603
CREATED:20251103T232612Z
LAST-MODIFIED:20251105T160751Z
UID:10000648-1903030200-1903050000@www.visitballard.com
SUMMARY:Conor Byrne Open Mic Nights
DESCRIPTION:Share your talent or enjoy new music by local artists at the Conor Byrne Coop on Sundays from 8 PM – 1 AM. Doors open at 7:30 PM.
URL:https://www.visitballard.com/event/conor-byrne-open-mic-nights/2030-04-21/
LOCATION:Conor Byrne Pub\, 5140 Ballard Ave NW\, Seattle\, WA\, 98107\, United States
CATEGORIES:Community
ATTACH;FMTTYPE=image/png:https://www.visitballard.com/wp-content/uploads/2025/11/Screenshot-2025-11-05-at-8.06.54-AM.png
END:VEVENT
BEGIN:VEVENT
DTSTART;TZID=America/Los_Angeles:20300428T193000
DTEND;TZID=America/Los_Angeles:20300429T010000
DTSTAMP:20260421T051603
CREATED:20251103T232612Z
LAST-MODIFIED:20251105T160751Z
UID:10000649-1903635000-1903654800@www.visitballard.com
SUMMARY:Conor Byrne Open Mic Nights
DESCRIPTION:Share your talent or enjoy new music by local artists at the Conor Byrne Coop on Sundays from 8 PM – 1 AM. Doors open at 7:30 PM.
URL:https://www.visitballard.com/event/conor-byrne-open-mic-nights/2030-04-28/
LOCATION:Conor Byrne Pub\, 5140 Ballard Ave NW\, Seattle\, WA\, 98107\, United States
CATEGORIES:Community
ATTACH;FMTTYPE=image/png:https://www.visitballard.com/wp-content/uploads/2025/11/Screenshot-2025-11-05-at-8.06.54-AM.png
END:VEVENT
BEGIN:VEVENT
DTSTART;TZID=America/Los_Angeles:20300505T193000
DTEND;TZID=America/Los_Angeles:20300506T010000
DTSTAMP:20260421T051603
CREATED:20251103T232612Z
LAST-MODIFIED:20251105T160751Z
UID:10000650-1904239800-1904259600@www.visitballard.com
SUMMARY:Conor Byrne Open Mic Nights
DESCRIPTION:Share your talent or enjoy new music by local artists at the Conor Byrne Coop on Sundays from 8 PM – 1 AM. Doors open at 7:30 PM.
URL:https://www.visitballard.com/event/conor-byrne-open-mic-nights/2030-05-05/
LOCATION:Conor Byrne Pub\, 5140 Ballard Ave NW\, Seattle\, WA\, 98107\, United States
CATEGORIES:Community
ATTACH;FMTTYPE=image/png:https://www.visitballard.com/wp-content/uploads/2025/11/Screenshot-2025-11-05-at-8.06.54-AM.png
END:VEVENT
BEGIN:VEVENT
DTSTART;TZID=America/Los_Angeles:20300512T193000
DTEND;TZID=America/Los_Angeles:20300513T010000
DTSTAMP:20260421T051603
CREATED:20251103T232612Z
LAST-MODIFIED:20251105T160751Z
UID:10000651-1904844600-1904864400@www.visitballard.com
SUMMARY:Conor Byrne Open Mic Nights
DESCRIPTION:Share your talent or enjoy new music by local artists at the Conor Byrne Coop on Sundays from 8 PM – 1 AM. Doors open at 7:30 PM.
URL:https://www.visitballard.com/event/conor-byrne-open-mic-nights/2030-05-12/
LOCATION:Conor Byrne Pub\, 5140 Ballard Ave NW\, Seattle\, WA\, 98107\, United States
CATEGORIES:Community
ATTACH;FMTTYPE=image/png:https://www.visitballard.com/wp-content/uploads/2025/11/Screenshot-2025-11-05-at-8.06.54-AM.png
END:VEVENT
BEGIN:VEVENT
DTSTART;TZID=America/Los_Angeles:20300519T193000
DTEND;TZID=America/Los_Angeles:20300520T010000
DTSTAMP:20260421T051603
CREATED:20251103T232612Z
LAST-MODIFIED:20251105T160751Z
UID:10000652-1905449400-1905469200@www.visitballard.com
SUMMARY:Conor Byrne Open Mic Nights
DESCRIPTION:Share your talent or enjoy new music by local artists at the Conor Byrne Coop on Sundays from 8 PM – 1 AM. Doors open at 7:30 PM.
URL:https://www.visitballard.com/event/conor-byrne-open-mic-nights/2030-05-19/
LOCATION:Conor Byrne Pub\, 5140 Ballard Ave NW\, Seattle\, WA\, 98107\, United States
CATEGORIES:Community
ATTACH;FMTTYPE=image/png:https://www.visitballard.com/wp-content/uploads/2025/11/Screenshot-2025-11-05-at-8.06.54-AM.png
END:VEVENT
BEGIN:VEVENT
DTSTART;TZID=America/Los_Angeles:20300526T193000
DTEND;TZID=America/Los_Angeles:20300527T010000
DTSTAMP:20260421T051603
CREATED:20251103T232612Z
LAST-MODIFIED:20251105T160751Z
UID:10000653-1906054200-1906074000@www.visitballard.com
SUMMARY:Conor Byrne Open Mic Nights
DESCRIPTION:Share your talent or enjoy new music by local artists at the Conor Byrne Coop on Sundays from 8 PM – 1 AM. Doors open at 7:30 PM.
URL:https://www.visitballard.com/event/conor-byrne-open-mic-nights/2030-05-26/
LOCATION:Conor Byrne Pub\, 5140 Ballard Ave NW\, Seattle\, WA\, 98107\, United States
CATEGORIES:Community
ATTACH;FMTTYPE=image/png:https://www.visitballard.com/wp-content/uploads/2025/11/Screenshot-2025-11-05-at-8.06.54-AM.png
END:VEVENT
BEGIN:VEVENT
DTSTART;TZID=America/Los_Angeles:20300602T193000
DTEND;TZID=America/Los_Angeles:20300603T010000
DTSTAMP:20260421T051603
CREATED:20251103T232612Z
LAST-MODIFIED:20251105T160751Z
UID:10000654-1906659000-1906678800@www.visitballard.com
SUMMARY:Conor Byrne Open Mic Nights
DESCRIPTION:Share your talent or enjoy new music by local artists at the Conor Byrne Coop on Sundays from 8 PM – 1 AM. Doors open at 7:30 PM.
URL:https://www.visitballard.com/event/conor-byrne-open-mic-nights/2030-06-02/
LOCATION:Conor Byrne Pub\, 5140 Ballard Ave NW\, Seattle\, WA\, 98107\, United States
CATEGORIES:Community
ATTACH;FMTTYPE=image/png:https://www.visitballard.com/wp-content/uploads/2025/11/Screenshot-2025-11-05-at-8.06.54-AM.png
END:VEVENT
BEGIN:VEVENT
DTSTART;TZID=America/Los_Angeles:20300609T193000
DTEND;TZID=America/Los_Angeles:20300610T010000
DTSTAMP:20260421T051603
CREATED:20251103T232612Z
LAST-MODIFIED:20251105T160751Z
UID:10000655-1907263800-1907283600@www.visitballard.com
SUMMARY:Conor Byrne Open Mic Nights
DESCRIPTION:Share your talent or enjoy new music by local artists at the Conor Byrne Coop on Sundays from 8 PM – 1 AM. Doors open at 7:30 PM.
URL:https://www.visitballard.com/event/conor-byrne-open-mic-nights/2030-06-09/
LOCATION:Conor Byrne Pub\, 5140 Ballard Ave NW\, Seattle\, WA\, 98107\, United States
CATEGORIES:Community
ATTACH;FMTTYPE=image/png:https://www.visitballard.com/wp-content/uploads/2025/11/Screenshot-2025-11-05-at-8.06.54-AM.png
END:VEVENT
BEGIN:VEVENT
DTSTART;TZID=America/Los_Angeles:20300616T193000
DTEND;TZID=America/Los_Angeles:20300617T010000
DTSTAMP:20260421T051603
CREATED:20251103T232612Z
LAST-MODIFIED:20251105T160751Z
UID:10000656-1907868600-1907888400@www.visitballard.com
SUMMARY:Conor Byrne Open Mic Nights
DESCRIPTION:Share your talent or enjoy new music by local artists at the Conor Byrne Coop on Sundays from 8 PM – 1 AM. Doors open at 7:30 PM.
URL:https://www.visitballard.com/event/conor-byrne-open-mic-nights/2030-06-16/
LOCATION:Conor Byrne Pub\, 5140 Ballard Ave NW\, Seattle\, WA\, 98107\, United States
CATEGORIES:Community
ATTACH;FMTTYPE=image/png:https://www.visitballard.com/wp-content/uploads/2025/11/Screenshot-2025-11-05-at-8.06.54-AM.png
END:VEVENT
BEGIN:VEVENT
DTSTART;TZID=America/Los_Angeles:20300623T193000
DTEND;TZID=America/Los_Angeles:20300624T010000
DTSTAMP:20260421T051603
CREATED:20251103T232612Z
LAST-MODIFIED:20251105T160751Z
UID:10000657-1908473400-1908493200@www.visitballard.com
SUMMARY:Conor Byrne Open Mic Nights
DESCRIPTION:Share your talent or enjoy new music by local artists at the Conor Byrne Coop on Sundays from 8 PM – 1 AM. Doors open at 7:30 PM.
URL:https://www.visitballard.com/event/conor-byrne-open-mic-nights/2030-06-23/
LOCATION:Conor Byrne Pub\, 5140 Ballard Ave NW\, Seattle\, WA\, 98107\, United States
CATEGORIES:Community
ATTACH;FMTTYPE=image/png:https://www.visitballard.com/wp-content/uploads/2025/11/Screenshot-2025-11-05-at-8.06.54-AM.png
END:VEVENT
BEGIN:VEVENT
DTSTART;TZID=America/Los_Angeles:20300630T193000
DTEND;TZID=America/Los_Angeles:20300701T010000
DTSTAMP:20260421T051603
CREATED:20251103T232612Z
LAST-MODIFIED:20251105T160751Z
UID:10000658-1909078200-1909098000@www.visitballard.com
SUMMARY:Conor Byrne Open Mic Nights
DESCRIPTION:Share your talent or enjoy new music by local artists at the Conor Byrne Coop on Sundays from 8 PM – 1 AM. Doors open at 7:30 PM.
URL:https://www.visitballard.com/event/conor-byrne-open-mic-nights/2030-06-30/
LOCATION:Conor Byrne Pub\, 5140 Ballard Ave NW\, Seattle\, WA\, 98107\, United States
CATEGORIES:Community
ATTACH;FMTTYPE=image/png:https://www.visitballard.com/wp-content/uploads/2025/11/Screenshot-2025-11-05-at-8.06.54-AM.png
END:VEVENT
BEGIN:VEVENT
DTSTART;TZID=America/Los_Angeles:20300707T193000
DTEND;TZID=America/Los_Angeles:20300708T010000
DTSTAMP:20260421T051603
CREATED:20251103T232612Z
LAST-MODIFIED:20251105T160751Z
UID:10000659-1909683000-1909702800@www.visitballard.com
SUMMARY:Conor Byrne Open Mic Nights
DESCRIPTION:Share your talent or enjoy new music by local artists at the Conor Byrne Coop on Sundays from 8 PM – 1 AM. Doors open at 7:30 PM.
URL:https://www.visitballard.com/event/conor-byrne-open-mic-nights/2030-07-07/
LOCATION:Conor Byrne Pub\, 5140 Ballard Ave NW\, Seattle\, WA\, 98107\, United States
CATEGORIES:Community
ATTACH;FMTTYPE=image/png:https://www.visitballard.com/wp-content/uploads/2025/11/Screenshot-2025-11-05-at-8.06.54-AM.png
END:VEVENT
BEGIN:VEVENT
DTSTART;TZID=America/Los_Angeles:20300714T193000
DTEND;TZID=America/Los_Angeles:20300715T010000
DTSTAMP:20260421T051603
CREATED:20251103T232612Z
LAST-MODIFIED:20251105T160751Z
UID:10000660-1910287800-1910307600@www.visitballard.com
SUMMARY:Conor Byrne Open Mic Nights
DESCRIPTION:Share your talent or enjoy new music by local artists at the Conor Byrne Coop on Sundays from 8 PM – 1 AM. Doors open at 7:30 PM.
URL:https://www.visitballard.com/event/conor-byrne-open-mic-nights/2030-07-14/
LOCATION:Conor Byrne Pub\, 5140 Ballard Ave NW\, Seattle\, WA\, 98107\, United States
CATEGORIES:Community
ATTACH;FMTTYPE=image/png:https://www.visitballard.com/wp-content/uploads/2025/11/Screenshot-2025-11-05-at-8.06.54-AM.png
END:VEVENT
BEGIN:VEVENT
DTSTART;TZID=America/Los_Angeles:20300721T193000
DTEND;TZID=America/Los_Angeles:20300722T010000
DTSTAMP:20260421T051603
CREATED:20251103T232612Z
LAST-MODIFIED:20251105T160751Z
UID:10000661-1910892600-1910912400@www.visitballard.com
SUMMARY:Conor Byrne Open Mic Nights
DESCRIPTION:Share your talent or enjoy new music by local artists at the Conor Byrne Coop on Sundays from 8 PM – 1 AM. Doors open at 7:30 PM.
URL:https://www.visitballard.com/event/conor-byrne-open-mic-nights/2030-07-21/
LOCATION:Conor Byrne Pub\, 5140 Ballard Ave NW\, Seattle\, WA\, 98107\, United States
CATEGORIES:Community
ATTACH;FMTTYPE=image/png:https://www.visitballard.com/wp-content/uploads/2025/11/Screenshot-2025-11-05-at-8.06.54-AM.png
END:VEVENT
END:VCALENDAR