BEGIN:VCALENDAR
VERSION:2.0
PRODID:-//Visit Ballard - ECPv6.15.20//NONSGML v1.0//EN
CALSCALE:GREGORIAN
METHOD:PUBLISH
X-WR-CALNAME:Visit Ballard
X-ORIGINAL-URL:https://www.visitballard.com
X-WR-CALDESC:Events for Visit Ballard
REFRESH-INTERVAL;VALUE=DURATION:PT1H
X-Robots-Tag:noindex
X-PUBLISHED-TTL:PT1H
BEGIN:VTIMEZONE
TZID:America/Los_Angeles
BEGIN:DAYLIGHT
TZOFFSETFROM:-0800
TZOFFSETTO:-0700
TZNAME:PDT
DTSTART:20250309T100000
END:DAYLIGHT
BEGIN:STANDARD
TZOFFSETFROM:-0700
TZOFFSETTO:-0800
TZNAME:PST
DTSTART:20251102T090000
END:STANDARD
BEGIN:DAYLIGHT
TZOFFSETFROM:-0800
TZOFFSETTO:-0700
TZNAME:PDT
DTSTART:20260308T100000
END:DAYLIGHT
BEGIN:STANDARD
TZOFFSETFROM:-0700
TZOFFSETTO:-0800
TZNAME:PST
DTSTART:20261101T090000
END:STANDARD
BEGIN:DAYLIGHT
TZOFFSETFROM:-0800
TZOFFSETTO:-0700
TZNAME:PDT
DTSTART:20270314T100000
END:DAYLIGHT
BEGIN:STANDARD
TZOFFSETFROM:-0700
TZOFFSETTO:-0800
TZNAME:PST
DTSTART:20271107T090000
END:STANDARD
END:VTIMEZONE
BEGIN:VEVENT
DTSTART;TZID=America/Los_Angeles:20260411T100000
DTEND;TZID=America/Los_Angeles:20260411T180000
DTSTAMP:20260423T113335
CREATED:20260401T214050Z
LAST-MODIFIED:20260401T214050Z
UID:10006250-1775901600-1775930400@www.visitballard.com
SUMMARY:Handmade Silk & Velvet Tulip
DESCRIPTION:Are you looking to learn the art of flower making? Join our workshop and discover the joy of creating your own beautiful flowers using silk fabric. Our expert guidance will take you through the steps to create a stunning handmade Tulip in all its glory. This class is perfect for all levels\, and you will have the skills to apply these techniques to other flowers. Don’t miss out on this opportunity to unleash your creativity! \nWorkshop Fee includes materials.
URL:https://www.visitballard.com/event/handmade-silk-velvet-tulip/
LOCATION:1149 NW 52nd St 98103\, 1149 NW 52nd St\, seattle\, WA\, 98107\, United States
ATTACH;FMTTYPE=image/jpeg:https://www.visitballard.com/wp-content/uploads/2026/04/20250530_124256-scaled.jpg
ORGANIZER;CN="Bea &amp%3B Evie Millinery":MAILTO:tina@bea-evie.com
END:VEVENT
END:VCALENDAR