BEGIN:VCALENDAR
VERSION:2.0
PRODID:-//Visit Ballard - ECPv6.15.20//NONSGML v1.0//EN
CALSCALE:GREGORIAN
METHOD:PUBLISH
X-WR-CALNAME:Visit Ballard
X-ORIGINAL-URL:https://www.visitballard.com
X-WR-CALDESC:Events for Visit Ballard
REFRESH-INTERVAL;VALUE=DURATION:PT1H
X-Robots-Tag:noindex
X-PUBLISHED-TTL:PT1H
BEGIN:VTIMEZONE
TZID:America/Los_Angeles
BEGIN:DAYLIGHT
TZOFFSETFROM:-0800
TZOFFSETTO:-0700
TZNAME:PDT
DTSTART:20280312T100000
END:DAYLIGHT
BEGIN:STANDARD
TZOFFSETFROM:-0700
TZOFFSETTO:-0800
TZNAME:PST
DTSTART:20281105T090000
END:STANDARD
BEGIN:DAYLIGHT
TZOFFSETFROM:-0800
TZOFFSETTO:-0700
TZNAME:PDT
DTSTART:20290311T100000
END:DAYLIGHT
BEGIN:STANDARD
TZOFFSETFROM:-0700
TZOFFSETTO:-0800
TZNAME:PST
DTSTART:20291104T090000
END:STANDARD
BEGIN:DAYLIGHT
TZOFFSETFROM:-0800
TZOFFSETTO:-0700
TZNAME:PDT
DTSTART:20300310T100000
END:DAYLIGHT
BEGIN:STANDARD
TZOFFSETFROM:-0700
TZOFFSETTO:-0800
TZNAME:PST
DTSTART:20301103T090000
END:STANDARD
END:VTIMEZONE
BEGIN:VEVENT
DTSTART;TZID=America/Los_Angeles:20290930T193000
DTEND;TZID=America/Los_Angeles:20291001T010000
DTSTAMP:20260419T234544
CREATED:20251103T232612Z
LAST-MODIFIED:20251105T160751Z
UID:10000619-1885491000-1885510800@www.visitballard.com
SUMMARY:Conor Byrne Open Mic Nights
DESCRIPTION:Share your talent or enjoy new music by local artists at the Conor Byrne Coop on Sundays from 8 PM – 1 AM. Doors open at 7:30 PM.
URL:https://www.visitballard.com/event/conor-byrne-open-mic-nights/2029-09-30/
LOCATION:Conor Byrne Pub\, 5140 Ballard Ave NW\, Seattle\, WA\, 98107\, United States
CATEGORIES:Community
ATTACH;FMTTYPE=image/png:https://www.visitballard.com/wp-content/uploads/2025/11/Screenshot-2025-11-05-at-8.06.54-AM.png
END:VEVENT
BEGIN:VEVENT
DTSTART;TZID=America/Los_Angeles:20291001T180000
DTEND;TZID=America/Los_Angeles:20291001T210000
DTSTAMP:20260419T234544
CREATED:20260129T182102Z
LAST-MODIFIED:20260129T182129Z
UID:10005601-1885572000-1885582800@www.visitballard.com
SUMMARY:Magic Monday Casual Commander Night | Reuben's Brews Ballard Taproom
DESCRIPTION:Join us at the Reuben’s Brews Ballard Taproom for a casual Commander night with Wizards of the Coast. \nAll skill levels welcome\, friendly competition encouraged\, great beer absolutely guaranteed! \nBring a deck and a friend\, or make some new ones here 🍻 \nFree Booster Pack to the first 10 players who take a picture of their food or beer and tag us @reubensbrews on Instagram!
URL:https://www.visitballard.com/event/magic-monday-casual-commander-night-reubens-brews-ballard-taproom/2029-10-01/
LOCATION:Reuben’s Brews\, 5010 14th Ave NW\, Seattle\, WA\, 98107\, United States
ATTACH;FMTTYPE=image/jpeg:https://www.visitballard.com/wp-content/uploads/2026/01/Magic-monday-poster_8.5x11-copy-scaled.jpg
END:VEVENT
BEGIN:VEVENT
DTSTART;TZID=America/Los_Angeles:20291001T183000
DTEND;TZID=America/Los_Angeles:20291001T200000
DTSTAMP:20260419T234544
CREATED:20251204T181520Z
LAST-MODIFIED:20251204T181520Z
UID:10001970-1885573800-1885579200@www.visitballard.com
SUMMARY:Join Us for BINGO | Games - Prize - Party MONDAY
DESCRIPTION:Join Us for BINGO Games – Prize – Party MONDAY\nGet ready for an evening of fun\, excitement\, and community!\nSTARTS 6:30- 8 pm
URL:https://www.visitballard.com/event/join-us-for-bingo-games-prize-party-monday/2029-10-01/
LOCATION:2446 NW Market St. Seattle\, WA\, 98107\, 2446 NW Market St. Seattle\, WA\, 98107\, 2446 NW Market St. Seattle\, WA\, 98107\, 98107
CATEGORIES:Community
ATTACH;FMTTYPE=image/png:https://www.visitballard.com/wp-content/uploads/2025/12/Ballardbeerbox-Bingo-scaled.png
ORGANIZER;CN="Ballard Beer Box":MAILTO:info@ballardbeerbox.com
END:VEVENT
BEGIN:VEVENT
DTSTART;TZID=America/Los_Angeles:20291001T183000
DTEND;TZID=America/Los_Angeles:20291001T200000
DTSTAMP:20260419T234544
CREATED:20251208T174212Z
LAST-MODIFIED:20251222T190745Z
UID:10002491-1885573800-1885579200@www.visitballard.com
SUMMARY:Bingo Monday
DESCRIPTION:Kick off your week with Bingo every Monday at Ballard Beer Box!\nMondays just got a whole lot more fun. Join us for an evening of laughs\, lucky numbers\, and the perfect mix of food and drinks to set the tone for the week. Enjoy our signature pizzas made with organic\, slow-fermented dough\, paired with an exceptional lineup of craft beer and natural wine poured fresh from our taps. \nWhether you’re here to win big or simply unwind\, Bingo Monday is the best way to recharge and reconnect. Gather your team\, enjoy a slice\, raise a glass\, and let the positive energy flow. \nJoin us every Monday—eat\, sip\, play\, and win at Ballard Beer Box!
URL:https://www.visitballard.com/event/bingo-monday/2029-10-01/
LOCATION:ballard beer box\, 2446 NW Market St\, Seattle\, WA 98107\, Seattle\, WA\, 98107\, United States
ATTACH;FMTTYPE=image/jpeg:https://www.visitballard.com/wp-content/uploads/2025/12/Bingo.jpg
ORGANIZER;CN="ballard beer box":MAILTO:info@ballardbeerbox.com
END:VEVENT
BEGIN:VEVENT
DTSTART;TZID=America/Los_Angeles:20291003T190000
DTEND;TZID=America/Los_Angeles:20291003T220000
DTSTAMP:20260419T234544
CREATED:20260129T182209Z
LAST-MODIFIED:20260129T182209Z
UID:10005341-1885748400-1885759200@www.visitballard.com
SUMMARY:Trivia with Head in the Clouds
DESCRIPTION:Think you’ve got the answers? We’ll see! Grab a pint\, grab your crew\, and battle it out for bragging rights (and prizes). \nJoin us every Wednesday for Trivia Night at Reuben’s Brews taprooms! It’s your mid-week brain refresh with a friendly competitive streak. \nOur trivia hosts keep the pace quick and the categories wide—music\, movies\, local lore\, and the occasional curveball. It’s community tables\, cheers for good answers\, and no gatekeeping. Build a team or join one on arrival. Either way\, you’ll enjoy fresh beer and leave with new facts and a few new friends.
URL:https://www.visitballard.com/event/trivia-with-head-in-the-clouds/2029-10-03/
LOCATION:Reuben’s Brews\, 5010 14th Ave NW\, Seattle\, WA\, 98107\, United States
CATEGORIES:Community
ATTACH;FMTTYPE=image/png:https://www.visitballard.com/wp-content/uploads/2026/01/Untitled-design-4.png
END:VEVENT
BEGIN:VEVENT
DTSTART;TZID=America/Los_Angeles:20291004T100000
DTEND;TZID=America/Los_Angeles:20291004T200000
DTSTAMP:20260419T234544
CREATED:20251030T174742Z
LAST-MODIFIED:20251030T174742Z
UID:10000396-1885802400-1885838400@www.visitballard.com
SUMMARY:Free First Thursdays - National Nordic Museum
DESCRIPTION:On the First Thursday of every month\, general admission to the National Nordic Museum is free! When selecting First Thursday tickets\, your complimentary discount will be applied at checkout. Reserve your tickets in advance online and make sure to stop by the Admissions Desk to check in for First Thursday. Walk-ins welcome! \n*Access to special exhibitions is available for $5 per person on First Thursdays. Tickets may be purchased at the Admissions desk at any time during your visit.
URL:https://www.visitballard.com/event/free-first-thursdays-national-nordic-museum/2029-10-04/
LOCATION:WA
ATTACH;FMTTYPE=image/jpeg:https://www.visitballard.com/wp-content/uploads/2025/10/BA_8-21-24_0023-scaled.jpg
END:VEVENT
BEGIN:VEVENT
DTSTART;TZID=America/Los_Angeles:20291007T193000
DTEND;TZID=America/Los_Angeles:20291008T010000
DTSTAMP:20260419T234544
CREATED:20251103T232612Z
LAST-MODIFIED:20251105T160751Z
UID:10000620-1886095800-1886115600@www.visitballard.com
SUMMARY:Conor Byrne Open Mic Nights
DESCRIPTION:Share your talent or enjoy new music by local artists at the Conor Byrne Coop on Sundays from 8 PM – 1 AM. Doors open at 7:30 PM.
URL:https://www.visitballard.com/event/conor-byrne-open-mic-nights/2029-10-07/
LOCATION:Conor Byrne Pub\, 5140 Ballard Ave NW\, Seattle\, WA\, 98107\, United States
CATEGORIES:Community
ATTACH;FMTTYPE=image/png:https://www.visitballard.com/wp-content/uploads/2025/11/Screenshot-2025-11-05-at-8.06.54-AM.png
END:VEVENT
BEGIN:VEVENT
DTSTART;TZID=America/Los_Angeles:20291008T180000
DTEND;TZID=America/Los_Angeles:20291008T210000
DTSTAMP:20260419T234544
CREATED:20260129T182102Z
LAST-MODIFIED:20260129T182129Z
UID:10005602-1886176800-1886187600@www.visitballard.com
SUMMARY:Magic Monday Casual Commander Night | Reuben's Brews Ballard Taproom
DESCRIPTION:Join us at the Reuben’s Brews Ballard Taproom for a casual Commander night with Wizards of the Coast. \nAll skill levels welcome\, friendly competition encouraged\, great beer absolutely guaranteed! \nBring a deck and a friend\, or make some new ones here 🍻 \nFree Booster Pack to the first 10 players who take a picture of their food or beer and tag us @reubensbrews on Instagram!
URL:https://www.visitballard.com/event/magic-monday-casual-commander-night-reubens-brews-ballard-taproom/2029-10-08/
LOCATION:Reuben’s Brews\, 5010 14th Ave NW\, Seattle\, WA\, 98107\, United States
ATTACH;FMTTYPE=image/jpeg:https://www.visitballard.com/wp-content/uploads/2026/01/Magic-monday-poster_8.5x11-copy-scaled.jpg
END:VEVENT
BEGIN:VEVENT
DTSTART;TZID=America/Los_Angeles:20291008T183000
DTEND;TZID=America/Los_Angeles:20291008T200000
DTSTAMP:20260419T234544
CREATED:20251204T181520Z
LAST-MODIFIED:20251204T181520Z
UID:10001971-1886178600-1886184000@www.visitballard.com
SUMMARY:Join Us for BINGO | Games - Prize - Party MONDAY
DESCRIPTION:Join Us for BINGO Games – Prize – Party MONDAY\nGet ready for an evening of fun\, excitement\, and community!\nSTARTS 6:30- 8 pm
URL:https://www.visitballard.com/event/join-us-for-bingo-games-prize-party-monday/2029-10-08/
LOCATION:2446 NW Market St. Seattle\, WA\, 98107\, 2446 NW Market St. Seattle\, WA\, 98107\, 2446 NW Market St. Seattle\, WA\, 98107\, 98107
CATEGORIES:Community
ATTACH;FMTTYPE=image/png:https://www.visitballard.com/wp-content/uploads/2025/12/Ballardbeerbox-Bingo-scaled.png
ORGANIZER;CN="Ballard Beer Box":MAILTO:info@ballardbeerbox.com
END:VEVENT
BEGIN:VEVENT
DTSTART;TZID=America/Los_Angeles:20291008T183000
DTEND;TZID=America/Los_Angeles:20291008T200000
DTSTAMP:20260419T234544
CREATED:20251208T174212Z
LAST-MODIFIED:20251222T190745Z
UID:10002492-1886178600-1886184000@www.visitballard.com
SUMMARY:Bingo Monday
DESCRIPTION:Kick off your week with Bingo every Monday at Ballard Beer Box!\nMondays just got a whole lot more fun. Join us for an evening of laughs\, lucky numbers\, and the perfect mix of food and drinks to set the tone for the week. Enjoy our signature pizzas made with organic\, slow-fermented dough\, paired with an exceptional lineup of craft beer and natural wine poured fresh from our taps. \nWhether you’re here to win big or simply unwind\, Bingo Monday is the best way to recharge and reconnect. Gather your team\, enjoy a slice\, raise a glass\, and let the positive energy flow. \nJoin us every Monday—eat\, sip\, play\, and win at Ballard Beer Box!
URL:https://www.visitballard.com/event/bingo-monday/2029-10-08/
LOCATION:ballard beer box\, 2446 NW Market St\, Seattle\, WA 98107\, Seattle\, WA\, 98107\, United States
ATTACH;FMTTYPE=image/jpeg:https://www.visitballard.com/wp-content/uploads/2025/12/Bingo.jpg
ORGANIZER;CN="ballard beer box":MAILTO:info@ballardbeerbox.com
END:VEVENT
BEGIN:VEVENT
DTSTART;TZID=America/Los_Angeles:20291010T190000
DTEND;TZID=America/Los_Angeles:20291010T220000
DTSTAMP:20260419T234544
CREATED:20260129T182209Z
LAST-MODIFIED:20260129T182209Z
UID:10005342-1886353200-1886364000@www.visitballard.com
SUMMARY:Trivia with Head in the Clouds
DESCRIPTION:Think you’ve got the answers? We’ll see! Grab a pint\, grab your crew\, and battle it out for bragging rights (and prizes). \nJoin us every Wednesday for Trivia Night at Reuben’s Brews taprooms! It’s your mid-week brain refresh with a friendly competitive streak. \nOur trivia hosts keep the pace quick and the categories wide—music\, movies\, local lore\, and the occasional curveball. It’s community tables\, cheers for good answers\, and no gatekeeping. Build a team or join one on arrival. Either way\, you’ll enjoy fresh beer and leave with new facts and a few new friends.
URL:https://www.visitballard.com/event/trivia-with-head-in-the-clouds/2029-10-10/
LOCATION:Reuben’s Brews\, 5010 14th Ave NW\, Seattle\, WA\, 98107\, United States
CATEGORIES:Community
ATTACH;FMTTYPE=image/png:https://www.visitballard.com/wp-content/uploads/2026/01/Untitled-design-4.png
END:VEVENT
BEGIN:VEVENT
DTSTART;TZID=America/Los_Angeles:20291013T180000
DTEND;TZID=America/Los_Angeles:20291013T210000
DTSTAMP:20260419T234544
CREATED:20251111T001519Z
LAST-MODIFIED:20251201T190356Z
UID:10000072-1886608800-1886619600@www.visitballard.com
SUMMARY:Ballard ArtWalk
DESCRIPTION:a long-standing tradition celebrating and supporting the local artist community in Ballard since 1997.\nThis engaging community event is brought to you by the Ballard Alliance and Ballard businesses\, and it takes place every second Saturday of the month from 6-9 pm. \nCome out and show your support for local artists and the venues that open their doors to showcase their creativity and be a part of the thriving arts community in Ballard. Your presence makes a difference. Go to visitballard.com/artwalk for all the details about this month’s lineup and a map.
URL:https://www.visitballard.com/event/ballard-artwalk-2/2029-10-13/
LOCATION:WA
CATEGORIES:Community
ATTACH;FMTTYPE=image/png:https://www.visitballard.com/wp-content/uploads/2025/10/ArtWalk-Eventcrp-scaled.png
END:VEVENT
BEGIN:VEVENT
DTSTART;TZID=America/Los_Angeles:20291014T193000
DTEND;TZID=America/Los_Angeles:20291015T010000
DTSTAMP:20260419T234544
CREATED:20251103T232612Z
LAST-MODIFIED:20251105T160751Z
UID:10000621-1886700600-1886720400@www.visitballard.com
SUMMARY:Conor Byrne Open Mic Nights
DESCRIPTION:Share your talent or enjoy new music by local artists at the Conor Byrne Coop on Sundays from 8 PM – 1 AM. Doors open at 7:30 PM.
URL:https://www.visitballard.com/event/conor-byrne-open-mic-nights/2029-10-14/
LOCATION:Conor Byrne Pub\, 5140 Ballard Ave NW\, Seattle\, WA\, 98107\, United States
CATEGORIES:Community
ATTACH;FMTTYPE=image/png:https://www.visitballard.com/wp-content/uploads/2025/11/Screenshot-2025-11-05-at-8.06.54-AM.png
END:VEVENT
BEGIN:VEVENT
DTSTART;TZID=America/Los_Angeles:20291015T180000
DTEND;TZID=America/Los_Angeles:20291015T210000
DTSTAMP:20260419T234544
CREATED:20260129T182102Z
LAST-MODIFIED:20260129T182129Z
UID:10005603-1886781600-1886792400@www.visitballard.com
SUMMARY:Magic Monday Casual Commander Night | Reuben's Brews Ballard Taproom
DESCRIPTION:Join us at the Reuben’s Brews Ballard Taproom for a casual Commander night with Wizards of the Coast. \nAll skill levels welcome\, friendly competition encouraged\, great beer absolutely guaranteed! \nBring a deck and a friend\, or make some new ones here 🍻 \nFree Booster Pack to the first 10 players who take a picture of their food or beer and tag us @reubensbrews on Instagram!
URL:https://www.visitballard.com/event/magic-monday-casual-commander-night-reubens-brews-ballard-taproom/2029-10-15/
LOCATION:Reuben’s Brews\, 5010 14th Ave NW\, Seattle\, WA\, 98107\, United States
ATTACH;FMTTYPE=image/jpeg:https://www.visitballard.com/wp-content/uploads/2026/01/Magic-monday-poster_8.5x11-copy-scaled.jpg
END:VEVENT
BEGIN:VEVENT
DTSTART;TZID=America/Los_Angeles:20291015T183000
DTEND;TZID=America/Los_Angeles:20291015T200000
DTSTAMP:20260419T234544
CREATED:20251204T181520Z
LAST-MODIFIED:20251204T181520Z
UID:10001972-1886783400-1886788800@www.visitballard.com
SUMMARY:Join Us for BINGO | Games - Prize - Party MONDAY
DESCRIPTION:Join Us for BINGO Games – Prize – Party MONDAY\nGet ready for an evening of fun\, excitement\, and community!\nSTARTS 6:30- 8 pm
URL:https://www.visitballard.com/event/join-us-for-bingo-games-prize-party-monday/2029-10-15/
LOCATION:2446 NW Market St. Seattle\, WA\, 98107\, 2446 NW Market St. Seattle\, WA\, 98107\, 2446 NW Market St. Seattle\, WA\, 98107\, 98107
CATEGORIES:Community
ATTACH;FMTTYPE=image/png:https://www.visitballard.com/wp-content/uploads/2025/12/Ballardbeerbox-Bingo-scaled.png
ORGANIZER;CN="Ballard Beer Box":MAILTO:info@ballardbeerbox.com
END:VEVENT
BEGIN:VEVENT
DTSTART;TZID=America/Los_Angeles:20291015T183000
DTEND;TZID=America/Los_Angeles:20291015T200000
DTSTAMP:20260419T234544
CREATED:20251208T174212Z
LAST-MODIFIED:20251222T190745Z
UID:10002493-1886783400-1886788800@www.visitballard.com
SUMMARY:Bingo Monday
DESCRIPTION:Kick off your week with Bingo every Monday at Ballard Beer Box!\nMondays just got a whole lot more fun. Join us for an evening of laughs\, lucky numbers\, and the perfect mix of food and drinks to set the tone for the week. Enjoy our signature pizzas made with organic\, slow-fermented dough\, paired with an exceptional lineup of craft beer and natural wine poured fresh from our taps. \nWhether you’re here to win big or simply unwind\, Bingo Monday is the best way to recharge and reconnect. Gather your team\, enjoy a slice\, raise a glass\, and let the positive energy flow. \nJoin us every Monday—eat\, sip\, play\, and win at Ballard Beer Box!
URL:https://www.visitballard.com/event/bingo-monday/2029-10-15/
LOCATION:ballard beer box\, 2446 NW Market St\, Seattle\, WA 98107\, Seattle\, WA\, 98107\, United States
ATTACH;FMTTYPE=image/jpeg:https://www.visitballard.com/wp-content/uploads/2025/12/Bingo.jpg
ORGANIZER;CN="ballard beer box":MAILTO:info@ballardbeerbox.com
END:VEVENT
BEGIN:VEVENT
DTSTART;TZID=America/Los_Angeles:20291017T190000
DTEND;TZID=America/Los_Angeles:20291017T220000
DTSTAMP:20260419T234544
CREATED:20260129T182209Z
LAST-MODIFIED:20260129T182209Z
UID:10005343-1886958000-1886968800@www.visitballard.com
SUMMARY:Trivia with Head in the Clouds
DESCRIPTION:Think you’ve got the answers? We’ll see! Grab a pint\, grab your crew\, and battle it out for bragging rights (and prizes). \nJoin us every Wednesday for Trivia Night at Reuben’s Brews taprooms! It’s your mid-week brain refresh with a friendly competitive streak. \nOur trivia hosts keep the pace quick and the categories wide—music\, movies\, local lore\, and the occasional curveball. It’s community tables\, cheers for good answers\, and no gatekeeping. Build a team or join one on arrival. Either way\, you’ll enjoy fresh beer and leave with new facts and a few new friends.
URL:https://www.visitballard.com/event/trivia-with-head-in-the-clouds/2029-10-17/
LOCATION:Reuben’s Brews\, 5010 14th Ave NW\, Seattle\, WA\, 98107\, United States
CATEGORIES:Community
ATTACH;FMTTYPE=image/png:https://www.visitballard.com/wp-content/uploads/2026/01/Untitled-design-4.png
END:VEVENT
BEGIN:VEVENT
DTSTART;TZID=America/Los_Angeles:20291021T193000
DTEND;TZID=America/Los_Angeles:20291022T010000
DTSTAMP:20260419T234544
CREATED:20251103T232612Z
LAST-MODIFIED:20251105T160751Z
UID:10000622-1887305400-1887325200@www.visitballard.com
SUMMARY:Conor Byrne Open Mic Nights
DESCRIPTION:Share your talent or enjoy new music by local artists at the Conor Byrne Coop on Sundays from 8 PM – 1 AM. Doors open at 7:30 PM.
URL:https://www.visitballard.com/event/conor-byrne-open-mic-nights/2029-10-21/
LOCATION:Conor Byrne Pub\, 5140 Ballard Ave NW\, Seattle\, WA\, 98107\, United States
CATEGORIES:Community
ATTACH;FMTTYPE=image/png:https://www.visitballard.com/wp-content/uploads/2025/11/Screenshot-2025-11-05-at-8.06.54-AM.png
END:VEVENT
BEGIN:VEVENT
DTSTART;TZID=America/Los_Angeles:20291022T180000
DTEND;TZID=America/Los_Angeles:20291022T210000
DTSTAMP:20260419T234544
CREATED:20260129T182102Z
LAST-MODIFIED:20260129T182129Z
UID:10005604-1887386400-1887397200@www.visitballard.com
SUMMARY:Magic Monday Casual Commander Night | Reuben's Brews Ballard Taproom
DESCRIPTION:Join us at the Reuben’s Brews Ballard Taproom for a casual Commander night with Wizards of the Coast. \nAll skill levels welcome\, friendly competition encouraged\, great beer absolutely guaranteed! \nBring a deck and a friend\, or make some new ones here 🍻 \nFree Booster Pack to the first 10 players who take a picture of their food or beer and tag us @reubensbrews on Instagram!
URL:https://www.visitballard.com/event/magic-monday-casual-commander-night-reubens-brews-ballard-taproom/2029-10-22/
LOCATION:Reuben’s Brews\, 5010 14th Ave NW\, Seattle\, WA\, 98107\, United States
ATTACH;FMTTYPE=image/jpeg:https://www.visitballard.com/wp-content/uploads/2026/01/Magic-monday-poster_8.5x11-copy-scaled.jpg
END:VEVENT
BEGIN:VEVENT
DTSTART;TZID=America/Los_Angeles:20291022T183000
DTEND;TZID=America/Los_Angeles:20291022T200000
DTSTAMP:20260419T234544
CREATED:20251204T181520Z
LAST-MODIFIED:20251204T181520Z
UID:10001973-1887388200-1887393600@www.visitballard.com
SUMMARY:Join Us for BINGO | Games - Prize - Party MONDAY
DESCRIPTION:Join Us for BINGO Games – Prize – Party MONDAY\nGet ready for an evening of fun\, excitement\, and community!\nSTARTS 6:30- 8 pm
URL:https://www.visitballard.com/event/join-us-for-bingo-games-prize-party-monday/2029-10-22/
LOCATION:2446 NW Market St. Seattle\, WA\, 98107\, 2446 NW Market St. Seattle\, WA\, 98107\, 2446 NW Market St. Seattle\, WA\, 98107\, 98107
CATEGORIES:Community
ATTACH;FMTTYPE=image/png:https://www.visitballard.com/wp-content/uploads/2025/12/Ballardbeerbox-Bingo-scaled.png
ORGANIZER;CN="Ballard Beer Box":MAILTO:info@ballardbeerbox.com
END:VEVENT
BEGIN:VEVENT
DTSTART;TZID=America/Los_Angeles:20291022T183000
DTEND;TZID=America/Los_Angeles:20291022T200000
DTSTAMP:20260419T234544
CREATED:20251208T174212Z
LAST-MODIFIED:20251222T190745Z
UID:10002494-1887388200-1887393600@www.visitballard.com
SUMMARY:Bingo Monday
DESCRIPTION:Kick off your week with Bingo every Monday at Ballard Beer Box!\nMondays just got a whole lot more fun. Join us for an evening of laughs\, lucky numbers\, and the perfect mix of food and drinks to set the tone for the week. Enjoy our signature pizzas made with organic\, slow-fermented dough\, paired with an exceptional lineup of craft beer and natural wine poured fresh from our taps. \nWhether you’re here to win big or simply unwind\, Bingo Monday is the best way to recharge and reconnect. Gather your team\, enjoy a slice\, raise a glass\, and let the positive energy flow. \nJoin us every Monday—eat\, sip\, play\, and win at Ballard Beer Box!
URL:https://www.visitballard.com/event/bingo-monday/2029-10-22/
LOCATION:ballard beer box\, 2446 NW Market St\, Seattle\, WA 98107\, Seattle\, WA\, 98107\, United States
ATTACH;FMTTYPE=image/jpeg:https://www.visitballard.com/wp-content/uploads/2025/12/Bingo.jpg
ORGANIZER;CN="ballard beer box":MAILTO:info@ballardbeerbox.com
END:VEVENT
BEGIN:VEVENT
DTSTART;TZID=America/Los_Angeles:20291024T190000
DTEND;TZID=America/Los_Angeles:20291024T220000
DTSTAMP:20260419T234544
CREATED:20260129T182209Z
LAST-MODIFIED:20260129T182209Z
UID:10005344-1887562800-1887573600@www.visitballard.com
SUMMARY:Trivia with Head in the Clouds
DESCRIPTION:Think you’ve got the answers? We’ll see! Grab a pint\, grab your crew\, and battle it out for bragging rights (and prizes). \nJoin us every Wednesday for Trivia Night at Reuben’s Brews taprooms! It’s your mid-week brain refresh with a friendly competitive streak. \nOur trivia hosts keep the pace quick and the categories wide—music\, movies\, local lore\, and the occasional curveball. It’s community tables\, cheers for good answers\, and no gatekeeping. Build a team or join one on arrival. Either way\, you’ll enjoy fresh beer and leave with new facts and a few new friends.
URL:https://www.visitballard.com/event/trivia-with-head-in-the-clouds/2029-10-24/
LOCATION:Reuben’s Brews\, 5010 14th Ave NW\, Seattle\, WA\, 98107\, United States
CATEGORIES:Community
ATTACH;FMTTYPE=image/png:https://www.visitballard.com/wp-content/uploads/2026/01/Untitled-design-4.png
END:VEVENT
BEGIN:VEVENT
DTSTART;TZID=America/Los_Angeles:20291028T193000
DTEND;TZID=America/Los_Angeles:20291029T010000
DTSTAMP:20260419T234544
CREATED:20251103T232612Z
LAST-MODIFIED:20251105T160751Z
UID:10000623-1887910200-1887930000@www.visitballard.com
SUMMARY:Conor Byrne Open Mic Nights
DESCRIPTION:Share your talent or enjoy new music by local artists at the Conor Byrne Coop on Sundays from 8 PM – 1 AM. Doors open at 7:30 PM.
URL:https://www.visitballard.com/event/conor-byrne-open-mic-nights/2029-10-28/
LOCATION:Conor Byrne Pub\, 5140 Ballard Ave NW\, Seattle\, WA\, 98107\, United States
CATEGORIES:Community
ATTACH;FMTTYPE=image/png:https://www.visitballard.com/wp-content/uploads/2025/11/Screenshot-2025-11-05-at-8.06.54-AM.png
END:VEVENT
BEGIN:VEVENT
DTSTART;TZID=America/Los_Angeles:20291029T180000
DTEND;TZID=America/Los_Angeles:20291029T210000
DTSTAMP:20260419T234544
CREATED:20260129T182102Z
LAST-MODIFIED:20260129T182129Z
UID:10005605-1887991200-1888002000@www.visitballard.com
SUMMARY:Magic Monday Casual Commander Night | Reuben's Brews Ballard Taproom
DESCRIPTION:Join us at the Reuben’s Brews Ballard Taproom for a casual Commander night with Wizards of the Coast. \nAll skill levels welcome\, friendly competition encouraged\, great beer absolutely guaranteed! \nBring a deck and a friend\, or make some new ones here 🍻 \nFree Booster Pack to the first 10 players who take a picture of their food or beer and tag us @reubensbrews on Instagram!
URL:https://www.visitballard.com/event/magic-monday-casual-commander-night-reubens-brews-ballard-taproom/2029-10-29/
LOCATION:Reuben’s Brews\, 5010 14th Ave NW\, Seattle\, WA\, 98107\, United States
ATTACH;FMTTYPE=image/jpeg:https://www.visitballard.com/wp-content/uploads/2026/01/Magic-monday-poster_8.5x11-copy-scaled.jpg
END:VEVENT
BEGIN:VEVENT
DTSTART;TZID=America/Los_Angeles:20291029T183000
DTEND;TZID=America/Los_Angeles:20291029T200000
DTSTAMP:20260419T234544
CREATED:20251204T181520Z
LAST-MODIFIED:20251204T181520Z
UID:10001974-1887993000-1887998400@www.visitballard.com
SUMMARY:Join Us for BINGO | Games - Prize - Party MONDAY
DESCRIPTION:Join Us for BINGO Games – Prize – Party MONDAY\nGet ready for an evening of fun\, excitement\, and community!\nSTARTS 6:30- 8 pm
URL:https://www.visitballard.com/event/join-us-for-bingo-games-prize-party-monday/2029-10-29/
LOCATION:2446 NW Market St. Seattle\, WA\, 98107\, 2446 NW Market St. Seattle\, WA\, 98107\, 2446 NW Market St. Seattle\, WA\, 98107\, 98107
CATEGORIES:Community
ATTACH;FMTTYPE=image/png:https://www.visitballard.com/wp-content/uploads/2025/12/Ballardbeerbox-Bingo-scaled.png
ORGANIZER;CN="Ballard Beer Box":MAILTO:info@ballardbeerbox.com
END:VEVENT
BEGIN:VEVENT
DTSTART;TZID=America/Los_Angeles:20291029T183000
DTEND;TZID=America/Los_Angeles:20291029T200000
DTSTAMP:20260419T234544
CREATED:20251208T174212Z
LAST-MODIFIED:20251222T190745Z
UID:10002495-1887993000-1887998400@www.visitballard.com
SUMMARY:Bingo Monday
DESCRIPTION:Kick off your week with Bingo every Monday at Ballard Beer Box!\nMondays just got a whole lot more fun. Join us for an evening of laughs\, lucky numbers\, and the perfect mix of food and drinks to set the tone for the week. Enjoy our signature pizzas made with organic\, slow-fermented dough\, paired with an exceptional lineup of craft beer and natural wine poured fresh from our taps. \nWhether you’re here to win big or simply unwind\, Bingo Monday is the best way to recharge and reconnect. Gather your team\, enjoy a slice\, raise a glass\, and let the positive energy flow. \nJoin us every Monday—eat\, sip\, play\, and win at Ballard Beer Box!
URL:https://www.visitballard.com/event/bingo-monday/2029-10-29/
LOCATION:ballard beer box\, 2446 NW Market St\, Seattle\, WA 98107\, Seattle\, WA\, 98107\, United States
ATTACH;FMTTYPE=image/jpeg:https://www.visitballard.com/wp-content/uploads/2025/12/Bingo.jpg
ORGANIZER;CN="ballard beer box":MAILTO:info@ballardbeerbox.com
END:VEVENT
BEGIN:VEVENT
DTSTART;TZID=America/Los_Angeles:20291031T190000
DTEND;TZID=America/Los_Angeles:20291031T220000
DTSTAMP:20260419T234544
CREATED:20260129T182209Z
LAST-MODIFIED:20260129T182209Z
UID:10005345-1888167600-1888178400@www.visitballard.com
SUMMARY:Trivia with Head in the Clouds
DESCRIPTION:Think you’ve got the answers? We’ll see! Grab a pint\, grab your crew\, and battle it out for bragging rights (and prizes). \nJoin us every Wednesday for Trivia Night at Reuben’s Brews taprooms! It’s your mid-week brain refresh with a friendly competitive streak. \nOur trivia hosts keep the pace quick and the categories wide—music\, movies\, local lore\, and the occasional curveball. It’s community tables\, cheers for good answers\, and no gatekeeping. Build a team or join one on arrival. Either way\, you’ll enjoy fresh beer and leave with new facts and a few new friends.
URL:https://www.visitballard.com/event/trivia-with-head-in-the-clouds/2029-10-31/
LOCATION:Reuben’s Brews\, 5010 14th Ave NW\, Seattle\, WA\, 98107\, United States
CATEGORIES:Community
ATTACH;FMTTYPE=image/png:https://www.visitballard.com/wp-content/uploads/2026/01/Untitled-design-4.png
END:VEVENT
END:VCALENDAR