BEGIN:VCALENDAR
VERSION:2.0
PRODID:-//Visit Ballard - ECPv6.15.20//NONSGML v1.0//EN
CALSCALE:GREGORIAN
METHOD:PUBLISH
X-ORIGINAL-URL:https://www.visitballard.com
X-WR-CALDESC:Events for Visit Ballard
REFRESH-INTERVAL;VALUE=DURATION:PT1H
X-Robots-Tag:noindex
X-PUBLISHED-TTL:PT1H
BEGIN:VTIMEZONE
TZID:America/Los_Angeles
BEGIN:DAYLIGHT
TZOFFSETFROM:-0800
TZOFFSETTO:-0700
TZNAME:PDT
DTSTART:20250309T100000
END:DAYLIGHT
BEGIN:STANDARD
TZOFFSETFROM:-0700
TZOFFSETTO:-0800
TZNAME:PST
DTSTART:20251102T090000
END:STANDARD
BEGIN:DAYLIGHT
TZOFFSETFROM:-0800
TZOFFSETTO:-0700
TZNAME:PDT
DTSTART:20260308T100000
END:DAYLIGHT
BEGIN:STANDARD
TZOFFSETFROM:-0700
TZOFFSETTO:-0800
TZNAME:PST
DTSTART:20261101T090000
END:STANDARD
BEGIN:DAYLIGHT
TZOFFSETFROM:-0800
TZOFFSETTO:-0700
TZNAME:PDT
DTSTART:20270314T100000
END:DAYLIGHT
BEGIN:STANDARD
TZOFFSETFROM:-0700
TZOFFSETTO:-0800
TZNAME:PST
DTSTART:20271107T090000
END:STANDARD
END:VTIMEZONE
BEGIN:VEVENT
DTSTART;TZID=America/Los_Angeles:20260328T170000
DTEND;TZID=America/Los_Angeles:20260328T200000
DTSTAMP:20260423T101347
CREATED:20260226T195615Z
LAST-MODIFIED:20260323T232101Z
UID:10005727-1774717200-1774728000@www.visitballard.com
SUMMARY:Ballard Wine Walk-Sold Out
DESCRIPTION:Explore the Ballard neighborhood and enjoy Pacific Northwest wines at the Visit Ballard Wine Walk on Saturday\, March 28th from 5 to 8 pm! \n\n\n\n\nExplore the charming Ballard neighborhood and experience delicious Pacific Northwest wines at the Visit Ballard Wine Walk on Saturday\, March 28th\, 2026. Visit Ballard has paired 15 boutique shops with 15 PNW wineries so you can taste a variety of wines in unique settings throughout the historic Ballard neighborhood. \nTickets are $40* for 10 tastings \nPurchase an additional three tastings for $10* \nBallard Wine Walk commemorative light-up drinkware is available for $10* or you may bring your own tasting glass to the event.
URL:https://www.visitballard.com/event/ballard-wine-walk/
LOCATION:Columbia Bank\, 5512 22nd Ave NW\, Seattle\, WA\, 98107
CATEGORIES:Community,Featured
ATTACH;FMTTYPE=image/png:https://www.visitballard.com/wp-content/uploads/2026/02/WineWalk-Sold-OUT-3.23.2026.png
END:VEVENT
END:VCALENDAR