BEGIN:VCALENDAR
VERSION:2.0
PRODID:-//Visit Ballard - ECPv6.15.20//NONSGML v1.0//EN
CALSCALE:GREGORIAN
METHOD:PUBLISH
X-WR-CALNAME:Visit Ballard
X-ORIGINAL-URL:https://www.visitballard.com
X-WR-CALDESC:Events for Visit Ballard
REFRESH-INTERVAL;VALUE=DURATION:PT1H
X-Robots-Tag:noindex
X-PUBLISHED-TTL:PT1H
BEGIN:VTIMEZONE
TZID:America/Los_Angeles
BEGIN:DAYLIGHT
TZOFFSETFROM:-0800
TZOFFSETTO:-0700
TZNAME:PDT
DTSTART:20250309T100000
END:DAYLIGHT
BEGIN:STANDARD
TZOFFSETFROM:-0700
TZOFFSETTO:-0800
TZNAME:PST
DTSTART:20251102T090000
END:STANDARD
BEGIN:DAYLIGHT
TZOFFSETFROM:-0800
TZOFFSETTO:-0700
TZNAME:PDT
DTSTART:20260308T100000
END:DAYLIGHT
BEGIN:STANDARD
TZOFFSETFROM:-0700
TZOFFSETTO:-0800
TZNAME:PST
DTSTART:20261101T090000
END:STANDARD
BEGIN:DAYLIGHT
TZOFFSETFROM:-0800
TZOFFSETTO:-0700
TZNAME:PDT
DTSTART:20270314T100000
END:DAYLIGHT
BEGIN:STANDARD
TZOFFSETFROM:-0700
TZOFFSETTO:-0800
TZNAME:PST
DTSTART:20271107T090000
END:STANDARD
END:VTIMEZONE
BEGIN:VEVENT
DTSTART;TZID=America/Los_Angeles:20260104T090000
DTEND;TZID=America/Los_Angeles:20260104T140000
DTSTAMP:20260423T121527
CREATED:20251111T002458Z
LAST-MODIFIED:20251111T002458Z
UID:10000094-1767517200-1767535200@www.visitballard.com
SUMMARY:Ballard Farmers Market
DESCRIPTION:Open since 2000\, Ballard Farmers Market is Seattle’s first year-round neighborhood farmers market selling produce exclusively from Washington state farmers. The Market has operated along the historic cobblestone stretch of Ballard Avenue NW between Vernon Place and 22nd Avenue. We hope you will visit us soon and plan to spend the day exploring one of the gems of Seattle. Open every Sunday rain or shine!
URL:https://www.visitballard.com/event/ballard-farmers-market-2/2026-01-04/
LOCATION:5300 Ballard Avenue NW\, Seattle\, WA 98107\, 5300 Ballard Avenue NW\, Seattle\, WA\, 98107\, United States
CATEGORIES:Community,Featured
ATTACH;FMTTYPE=image/jpeg:https://www.visitballard.com/wp-content/uploads/2025/10/farmerseventpage.jpg
END:VEVENT
BEGIN:VEVENT
DTSTART;TZID=America/Los_Angeles:20260110T180000
DTEND;TZID=America/Los_Angeles:20260110T210000
DTSTAMP:20260423T121527
CREATED:20251216T160802Z
LAST-MODIFIED:20251216T160803Z
UID:10000029-1768068000-1768078800@www.visitballard.com
SUMMARY:Ballard ArtWalk - JANUARY 10
DESCRIPTION:a long-standing tradition celebrating and supporting the local artist community in Ballard since 1997.\nThis engaging community event is brought to you by the Ballard Alliance and Ballard businesses\, and it takes place every second Saturday of the month from 6-9 pm. \nCome out and show your support for local artists and the venues that open their doors to showcase their creativity and be a part of the thriving arts community in Ballard. Your presence makes a difference. Go to visitballard.com/artwalk for all the details about this month’s lineup and a map.
URL:https://www.visitballard.com/event/ballard-artwalk-2-3/
LOCATION:WA
CATEGORIES:Community,Featured
ATTACH;FMTTYPE=image/png:https://www.visitballard.com/wp-content/uploads/2025/10/ArtWalk-Eventcrp-scaled.png
END:VEVENT
BEGIN:VEVENT
DTSTART;TZID=America/Los_Angeles:20260111T090000
DTEND;TZID=America/Los_Angeles:20260111T140000
DTSTAMP:20260423T121527
CREATED:20251111T002458Z
LAST-MODIFIED:20251111T002458Z
UID:10000095-1768122000-1768140000@www.visitballard.com
SUMMARY:Ballard Farmers Market
DESCRIPTION:Open since 2000\, Ballard Farmers Market is Seattle’s first year-round neighborhood farmers market selling produce exclusively from Washington state farmers. The Market has operated along the historic cobblestone stretch of Ballard Avenue NW between Vernon Place and 22nd Avenue. We hope you will visit us soon and plan to spend the day exploring one of the gems of Seattle. Open every Sunday rain or shine!
URL:https://www.visitballard.com/event/ballard-farmers-market-2/2026-01-11/
LOCATION:5300 Ballard Avenue NW\, Seattle\, WA 98107\, 5300 Ballard Avenue NW\, Seattle\, WA\, 98107\, United States
CATEGORIES:Community,Featured
ATTACH;FMTTYPE=image/jpeg:https://www.visitballard.com/wp-content/uploads/2025/10/farmerseventpage.jpg
END:VEVENT
BEGIN:VEVENT
DTSTART;TZID=America/Los_Angeles:20260118T090000
DTEND;TZID=America/Los_Angeles:20260118T140000
DTSTAMP:20260423T121527
CREATED:20251111T002458Z
LAST-MODIFIED:20251111T002458Z
UID:10000096-1768726800-1768744800@www.visitballard.com
SUMMARY:Ballard Farmers Market
DESCRIPTION:Open since 2000\, Ballard Farmers Market is Seattle’s first year-round neighborhood farmers market selling produce exclusively from Washington state farmers. The Market has operated along the historic cobblestone stretch of Ballard Avenue NW between Vernon Place and 22nd Avenue. We hope you will visit us soon and plan to spend the day exploring one of the gems of Seattle. Open every Sunday rain or shine!
URL:https://www.visitballard.com/event/ballard-farmers-market-2/2026-01-18/
LOCATION:5300 Ballard Avenue NW\, Seattle\, WA 98107\, 5300 Ballard Avenue NW\, Seattle\, WA\, 98107\, United States
CATEGORIES:Community,Featured
ATTACH;FMTTYPE=image/jpeg:https://www.visitballard.com/wp-content/uploads/2025/10/farmerseventpage.jpg
END:VEVENT
BEGIN:VEVENT
DTSTART;TZID=America/Los_Angeles:20260122T170000
DTEND;TZID=America/Los_Angeles:20260122T200000
DTSTAMP:20260423T121527
CREATED:20260102T155629Z
LAST-MODIFIED:20260102T155632Z
UID:10004077-1769101200-1769112000@www.visitballard.com
SUMMARY:Nordic x Northwest: An Evening of Food & Cultural Exploration
DESCRIPTION:As part of the special exhibit “New Nordic: Cuisine\, Aesthetics and Place”\, the National Nordic Museum invites guests to a tasting by a select group of diverse chefs in the Seattle area. \nPulling from locally sourced ingredients\, each chef will create a “bite” that captures the spirit of the New Nordic Food Manifesto\, as told through their own personal and cultural stories. \nYour ticket includes Museum admission! Have your bites and then check out our latest exhibition\, “New Nordic”\, which explores the New Nordic Food movement — inspiring interest in local ingredients and natural materials worldwide.
URL:https://www.visitballard.com/event/nordic-x-northwest-an-evening-of-food-cultural-exploration/
LOCATION:National Nordic Museum\, 2655 NW Market St\, Seattle\, WA\, 98107\, United States
CATEGORIES:Community,Featured
ATTACH;FMTTYPE=image/jpeg:https://www.visitballard.com/wp-content/uploads/2025/12/yosuke-ota-4nMGo_9CZSU-unsplash-1-scaled.jpg
END:VEVENT
BEGIN:VEVENT
DTSTART;TZID=America/Los_Angeles:20260125T090000
DTEND;TZID=America/Los_Angeles:20260125T140000
DTSTAMP:20260423T121527
CREATED:20251111T002458Z
LAST-MODIFIED:20251111T002458Z
UID:10000097-1769331600-1769349600@www.visitballard.com
SUMMARY:Ballard Farmers Market
DESCRIPTION:Open since 2000\, Ballard Farmers Market is Seattle’s first year-round neighborhood farmers market selling produce exclusively from Washington state farmers. The Market has operated along the historic cobblestone stretch of Ballard Avenue NW between Vernon Place and 22nd Avenue. We hope you will visit us soon and plan to spend the day exploring one of the gems of Seattle. Open every Sunday rain or shine!
URL:https://www.visitballard.com/event/ballard-farmers-market-2/2026-01-25/
LOCATION:5300 Ballard Avenue NW\, Seattle\, WA 98107\, 5300 Ballard Avenue NW\, Seattle\, WA\, 98107\, United States
CATEGORIES:Community,Featured
ATTACH;FMTTYPE=image/jpeg:https://www.visitballard.com/wp-content/uploads/2025/10/farmerseventpage.jpg
END:VEVENT
END:VCALENDAR