BEGIN:VCALENDAR
VERSION:2.0
PRODID:-//Visit Ballard - ECPv6.15.20//NONSGML v1.0//EN
CALSCALE:GREGORIAN
METHOD:PUBLISH
X-WR-CALNAME:Visit Ballard
X-ORIGINAL-URL:https://www.visitballard.com
X-WR-CALDESC:Events for Visit Ballard
REFRESH-INTERVAL;VALUE=DURATION:PT1H
X-Robots-Tag:noindex
X-PUBLISHED-TTL:PT1H
BEGIN:VTIMEZONE
TZID:America/Los_Angeles
BEGIN:DAYLIGHT
TZOFFSETFROM:-0800
TZOFFSETTO:-0700
TZNAME:PDT
DTSTART:20250309T100000
END:DAYLIGHT
BEGIN:STANDARD
TZOFFSETFROM:-0700
TZOFFSETTO:-0800
TZNAME:PST
DTSTART:20251102T090000
END:STANDARD
BEGIN:DAYLIGHT
TZOFFSETFROM:-0800
TZOFFSETTO:-0700
TZNAME:PDT
DTSTART:20260308T100000
END:DAYLIGHT
BEGIN:STANDARD
TZOFFSETFROM:-0700
TZOFFSETTO:-0800
TZNAME:PST
DTSTART:20261101T090000
END:STANDARD
BEGIN:DAYLIGHT
TZOFFSETFROM:-0800
TZOFFSETTO:-0700
TZNAME:PDT
DTSTART:20270314T100000
END:DAYLIGHT
BEGIN:STANDARD
TZOFFSETFROM:-0700
TZOFFSETTO:-0800
TZNAME:PST
DTSTART:20271107T090000
END:STANDARD
END:VTIMEZONE
BEGIN:VEVENT
DTSTART;VALUE=DATE:20260418
DTEND;VALUE=DATE:20260427
DTSTAMP:20260421T042553
CREATED:20260220T223706Z
LAST-MODIFIED:20260220T223706Z
UID:10005718-1776470400-1777247999@www.visitballard.com
SUMMARY:Run for the Trees: Happy Little 5K to Restore Forests this Earth Day
DESCRIPTION:Channel your inner Bob Ross and support Washington’s forests!  Walk\, run or roll at your own pace\, anywhere outdoors\, to take place between April 18 and 26\, during the time of Earth Day and Arbor Day. Register today before signup is full.  \nWhy Run for the Trees?\nLast year over 525 supporters helped restore forests across Washington state parks. With extreme weather impacting our trees more then ever\, we need you help to keep our forests healthy and thriving. \nWhat’s Included?\nYour $36 registration gets you a fun shirt\, bibb and finisher’s medal and the satisfaction of supporting forest restoration.  \nWant to make an even bigger impact? Add a donation when you register to plant more trees. \nRegister as soon as possible to guarantee your race swag arrives in time for the event!
URL:https://www.visitballard.com/event/run-for-the-trees-happy-little-5k-to-restore-forests-this-earth-day/
LOCATION:WA
CATEGORIES:Community
ATTACH;FMTTYPE=image/jpeg:https://www.visitballard.com/wp-content/uploads/2026/02/Run-for-the-Trees-2026.jpg
ORGANIZER;CN="Washington State Parks Foundation":MAILTO:info@wspf.org
END:VEVENT
BEGIN:VEVENT
DTSTART;TZID=America/Los_Angeles:20260422T190000
DTEND;TZID=America/Los_Angeles:20260422T210000
DTSTAMP:20260421T042553
CREATED:20260406T191936Z
LAST-MODIFIED:20260406T191936Z
UID:10006268-1776884400-1776891600@www.visitballard.com
SUMMARY:Jason Reimath Live at Skål
DESCRIPTION:Live acoustic guitar in the back bar with Jason Reimath. Expect soulful warmth and mellow tunes. No cover
URL:https://www.visitballard.com/event/jason-reimath-live-at-skal/
LOCATION:Skål Beer Hall\, 5429 Ballard Ave NW\, Seattle\, WA\, 98107\, United States
CATEGORIES:Community
ATTACH;FMTTYPE=image/png:https://www.visitballard.com/wp-content/uploads/2026/04/Jason-Reimath_4.22.png
ORGANIZER;CN="Sk%C3%A5l Beer Hall":MAILTO:adam@skalballard.com
END:VEVENT
BEGIN:VEVENT
DTSTART;TZID=America/Los_Angeles:20260422T190000
DTEND;TZID=America/Los_Angeles:20260422T220000
DTSTAMP:20260421T042553
CREATED:20260129T182209Z
LAST-MODIFIED:20260129T182209Z
UID:10005161-1776884400-1776895200@www.visitballard.com
SUMMARY:Trivia with Head in the Clouds
DESCRIPTION:Think you’ve got the answers? We’ll see! Grab a pint\, grab your crew\, and battle it out for bragging rights (and prizes). \nJoin us every Wednesday for Trivia Night at Reuben’s Brews taprooms! It’s your mid-week brain refresh with a friendly competitive streak. \nOur trivia hosts keep the pace quick and the categories wide—music\, movies\, local lore\, and the occasional curveball. It’s community tables\, cheers for good answers\, and no gatekeeping. Build a team or join one on arrival. Either way\, you’ll enjoy fresh beer and leave with new facts and a few new friends.
URL:https://www.visitballard.com/event/trivia-with-head-in-the-clouds/2026-04-22/
LOCATION:Reuben’s Brews\, 5010 14th Ave NW\, Seattle\, WA\, 98107\, United States
CATEGORIES:Community
ATTACH;FMTTYPE=image/png:https://www.visitballard.com/wp-content/uploads/2026/01/Untitled-design-4.png
END:VEVENT
BEGIN:VEVENT
DTSTART;TZID=America/Los_Angeles:20260423T213000
DTEND;TZID=America/Los_Angeles:20260423T230000
DTSTAMP:20260421T042553
CREATED:20260414T155613Z
LAST-MODIFIED:20260414T155613Z
UID:10006276-1776979800-1776985200@www.visitballard.com
SUMMARY:Karaoke at Hattie's Hat
DESCRIPTION:What’s your go-to karaoke song? We wanna hear it! Round up your friends for karaoke at Hattie’s\, Thursday nights at 9:30 🎤✨ in the Back Room.
URL:https://www.visitballard.com/event/karaoke-at-hatties-hat/2026-04-23/
LOCATION:Hattie’s Hat\, 5231 Ballard Avenue NW\, Seattle\, WA\, 98107\, United States
CATEGORIES:Community
ATTACH;FMTTYPE=image/jpeg:https://www.visitballard.com/wp-content/uploads/2026/04/BA-07-30-24_0908.jpg
END:VEVENT
BEGIN:VEVENT
DTSTART;TZID=America/Los_Angeles:20260426T120000
DTEND;TZID=America/Los_Angeles:20260426T170000
DTSTAMP:20260421T042553
CREATED:20260406T191908Z
LAST-MODIFIED:20260406T191912Z
UID:10006267-1777204800-1777222800@www.visitballard.com
SUMMARY:Spring Mead Festival
DESCRIPTION:Celebrate the Nectar of the Gods with WA Mead Makers! Eight local meaderies will be on hand to pour their Spring favorites in our covered outdoor street cafe. Come mead the makers\, sample a variety of meads\, and take home a bottle or two
URL:https://www.visitballard.com/event/spring-mead-festival/
LOCATION:Skål Beer Hall\, 5429 Ballard Ave NW\, Seattle\, WA\, 98107\, United States
CATEGORIES:Community
ATTACH;FMTTYPE=image/png:https://www.visitballard.com/wp-content/uploads/2026/04/SpringMead-2026.png
ORGANIZER;CN="Sk%C3%A5l Beer Hall":MAILTO:adam@skalballard.com
END:VEVENT
BEGIN:VEVENT
DTSTART;TZID=America/Los_Angeles:20260426T193000
DTEND;TZID=America/Los_Angeles:20260427T010000
DTSTAMP:20260421T042553
CREATED:20251103T232612Z
LAST-MODIFIED:20251105T160751Z
UID:10000440-1777231800-1777251600@www.visitballard.com
SUMMARY:Conor Byrne Open Mic Nights
DESCRIPTION:Share your talent or enjoy new music by local artists at the Conor Byrne Coop on Sundays from 8 PM – 1 AM. Doors open at 7:30 PM.
URL:https://www.visitballard.com/event/conor-byrne-open-mic-nights/2026-04-26/
LOCATION:Conor Byrne Pub\, 5140 Ballard Ave NW\, Seattle\, WA\, 98107\, United States
CATEGORIES:Community
ATTACH;FMTTYPE=image/png:https://www.visitballard.com/wp-content/uploads/2025/11/Screenshot-2025-11-05-at-8.06.54-AM.png
END:VEVENT
BEGIN:VEVENT
DTSTART;TZID=America/Los_Angeles:20260427T183000
DTEND;TZID=America/Los_Angeles:20260427T200000
DTSTAMP:20260421T042553
CREATED:20251204T181520Z
LAST-MODIFIED:20251204T181520Z
UID:10001791-1777314600-1777320000@www.visitballard.com
SUMMARY:Join Us for BINGO | Games - Prize - Party MONDAY
DESCRIPTION:Join Us for BINGO Games – Prize – Party MONDAY\nGet ready for an evening of fun\, excitement\, and community!\nSTARTS 6:30- 8 pm
URL:https://www.visitballard.com/event/join-us-for-bingo-games-prize-party-monday/2026-04-27/
LOCATION:2446 NW Market St. Seattle\, WA\, 98107\, 2446 NW Market St. Seattle\, WA\, 98107\, 2446 NW Market St. Seattle\, WA\, 98107\, 98107
CATEGORIES:Community
ATTACH;FMTTYPE=image/png:https://www.visitballard.com/wp-content/uploads/2025/12/Ballardbeerbox-Bingo-scaled.png
ORGANIZER;CN="Ballard Beer Box":MAILTO:info@ballardbeerbox.com
END:VEVENT
BEGIN:VEVENT
DTSTART;TZID=America/Los_Angeles:20260429T190000
DTEND;TZID=America/Los_Angeles:20260429T220000
DTSTAMP:20260421T042553
CREATED:20260129T182209Z
LAST-MODIFIED:20260129T182209Z
UID:10005162-1777489200-1777500000@www.visitballard.com
SUMMARY:Trivia with Head in the Clouds
DESCRIPTION:Think you’ve got the answers? We’ll see! Grab a pint\, grab your crew\, and battle it out for bragging rights (and prizes). \nJoin us every Wednesday for Trivia Night at Reuben’s Brews taprooms! It’s your mid-week brain refresh with a friendly competitive streak. \nOur trivia hosts keep the pace quick and the categories wide—music\, movies\, local lore\, and the occasional curveball. It’s community tables\, cheers for good answers\, and no gatekeeping. Build a team or join one on arrival. Either way\, you’ll enjoy fresh beer and leave with new facts and a few new friends.
URL:https://www.visitballard.com/event/trivia-with-head-in-the-clouds/2026-04-29/
LOCATION:Reuben’s Brews\, 5010 14th Ave NW\, Seattle\, WA\, 98107\, United States
CATEGORIES:Community
ATTACH;FMTTYPE=image/png:https://www.visitballard.com/wp-content/uploads/2026/01/Untitled-design-4.png
END:VEVENT
BEGIN:VEVENT
DTSTART;TZID=America/Los_Angeles:20260430T180000
DTEND;TZID=America/Los_Angeles:20260430T210000
DTSTAMP:20260421T042553
CREATED:20260413T215326Z
LAST-MODIFIED:20260413T215554Z
UID:10006273-1777572000-1777582800@www.visitballard.com
SUMMARY:Bug Tent Lodge
DESCRIPTION:Bug Tent Lodge brings the insect world to Ballard — free\, family-friendly evening of living and specimen bugs! \nThe Insect Safari teaching collection will be available for a public viewing. Thousands of expertly prepared specimens from around the world including beautiful butterflies and moths\, giant tropical beetles\, grasshoppers\, scorpions and many others. Also some living bugs that you might touch and hold\, an amazing entomological experience for the whole family!
URL:https://www.visitballard.com/event/bug-tent-lodge/
LOCATION:BallardAlkiOddFellows\, 1706 NW Market St\, SEATTLE\, WA\, 98107\, United States
CATEGORIES:Community
ATTACH;FMTTYPE=image/jpeg:https://www.visitballard.com/wp-content/uploads/2026/04/BugTentLodge-x-scaled.jpg
ORGANIZER;CN="BallardAlkiOddFellows":MAILTO:ioofballardalki170@gmail.com
END:VEVENT
BEGIN:VEVENT
DTSTART;TZID=America/Los_Angeles:20260430T213000
DTEND;TZID=America/Los_Angeles:20260430T230000
DTSTAMP:20260421T042553
CREATED:20260414T155613Z
LAST-MODIFIED:20260414T155613Z
UID:10006277-1777584600-1777590000@www.visitballard.com
SUMMARY:Karaoke at Hattie's Hat
DESCRIPTION:What’s your go-to karaoke song? We wanna hear it! Round up your friends for karaoke at Hattie’s\, Thursday nights at 9:30 🎤✨ in the Back Room.
URL:https://www.visitballard.com/event/karaoke-at-hatties-hat/2026-04-30/
LOCATION:Hattie’s Hat\, 5231 Ballard Avenue NW\, Seattle\, WA\, 98107\, United States
CATEGORIES:Community
ATTACH;FMTTYPE=image/jpeg:https://www.visitballard.com/wp-content/uploads/2026/04/BA-07-30-24_0908.jpg
END:VEVENT
END:VCALENDAR